BEGIN:VCALENDAR
VERSION:2.0
PRODID:-//ChamberMaster//Event Calendar 2.0//EN
METHOD:PUBLISH
X-PUBLISHED-TTL:P3D
REFRESH-INTERVAL:P3D
CALSCALE:GREGORIAN
BEGIN:VEVENT
DTSTART:20110214T150000Z
DTEND:20110214T230000Z
X-MICROSOFT-CDO-ALLDAYEVENT:FALSE
SUMMARY:SPECIAL VALENTINE'S DAY OPEN HOUSE
DESCRIPTION:DIAMONDS ON THE KEY\n\n	SPECIAL VALENTINE'S DAY OPEN HOUSE\n\n	FRIDAY\, FEBRUARY 11TH & MONDAY 14TH\n\n	10 AM - 6 PM\n\n	Key Executive Building - 104 Crandon Blvd. Suite 421A\n\n	All other days & times by appointment only\n\n	 \n\n	Remember\, flowers wilt\, chocolates melt (or go to the hips!)\n\n	but diamonds last forever!  View an extensive selection of\n\n	fine jewelry gift items for "Valentine's Day" including the\n\n	"Gypsy Collection" in 14K gold and gemstones\, starting\n\n	at only $225!
X-ALT-DESC;FMTTYPE=text/html:<p class="MsoNormal" style="margin: 0in 0in 0pt">\n	<font size="3"><strong><span style="font-family: 'arial'\, 'sans-serif'\; color: black\; mso-fareast-font-family: 'times new roman'">DIAMONDS ON THE KEY</span></strong><span style="font-family: 'arial'\, 'sans-serif'\; color: black\; font-size: 10pt\; mso-fareast-font-family: 'times new roman'"><o:p></o:p></span></font></p>\n<p class="MsoNormal" style="margin: 0in 0in 0pt">\n	<font size="3"><strong><span style="font-family: 'arial'\, 'sans-serif'\; color: black\; mso-fareast-font-family: 'times new roman'">SPECIAL VALENTINE&#39\;S DAY OPEN HOUSE</span></strong><span style="font-family: 'arial'\, 'sans-serif'\; color: black\; font-size: 10pt\; mso-fareast-font-family: 'times new roman'"><o:p></o:p></span></font></p>\n<p class="MsoNormal" style="margin: 0in 0in 0pt">\n	<font size="3"><strong><span style="font-family: 'arial'\, 'sans-serif'\; color: black\; mso-fareast-font-family: 'times new roman'">FRIDAY\, FEBRUARY 11TH &amp\; MONDAY 14TH</span></strong><span style="font-family: 'arial'\, 'sans-serif'\; color: black\; font-size: 10pt\; mso-fareast-font-family: 'times new roman'"><o:p></o:p></span></font></p>\n<p class="MsoNormal" style="margin: 0in 0in 0pt">\n	<font size="3"><strong><span style="font-family: 'arial'\, 'sans-serif'\; color: black\; mso-fareast-font-family: 'times new roman'">10 AM - 6 PM</span></strong><span style="font-family: 'arial'\, 'sans-serif'\; color: black\; font-size: 10pt\; mso-fareast-font-family: 'times new roman'"><o:p></o:p></span></font></p>\n<p class="MsoNormal" style="margin: 0in 0in 0pt">\n	<font size="3"><strong><span style="font-family: 'arial'\, 'sans-serif'\; color: black\; mso-fareast-font-family: 'times new roman'">Key Executive Building - 104 Crandon Blvd. Suite 421A</span></strong><span style="font-family: 'arial'\, 'sans-serif'\; color: black\; font-size: 10pt\; mso-fareast-font-family: 'times new roman'"><o:p></o:p></span></font></p>\n<p class="MsoNormal" style="margin: 0in 0in 0pt">\n	<em><b><span style="font-family: 'arial'\, 'sans-serif'\; color: black\; font-size: 10pt\; mso-fareast-font-family: 'times new roman'">All other days &amp\; times by appointment only</span></b></em><span style="font-family: 'arial'\, 'sans-serif'\; color: black\; font-size: 10pt\; mso-fareast-font-family: 'times new roman'"><o:p></o:p></span></p>\n<p class="MsoNormal" style="margin: 0in 0in 0pt">\n	<span style="font-family: 'arial'\, 'sans-serif'\; color: black\; font-size: 10pt\; mso-fareast-font-family: 'times new roman'">&nbsp\;<o:p></o:p></span></p>\n<p class="MsoNormal" style="margin: 0in 0in 0pt">\n	<font size="3"><span style="font-family: 'arial'\, 'sans-serif'\; color: black\; mso-fareast-font-family: 'times new roman'">Remember\, flowers wilt\, chocolates melt (or go to the hips!)</span><span style="font-family: 'arial'\, 'sans-serif'\; color: black\; font-size: 10pt\; mso-fareast-font-family: 'times new roman'"><o:p></o:p></span></font></p>\n<p class="MsoNormal" style="margin: 0in 0in 0pt">\n	<font size="3"><span style="font-family: 'arial'\, 'sans-serif'\; color: black\; mso-fareast-font-family: 'times new roman'">but diamonds last forever!&nbsp\; View an extensive selection of</span><span style="font-family: 'arial'\, 'sans-serif'\; color: black\; font-size: 10pt\; mso-fareast-font-family: 'times new roman'"><o:p></o:p></span></font></p>\n<p class="MsoNormal" style="margin: 0in 0in 0pt">\n	<font size="3"><span style="font-family: 'arial'\, 'sans-serif'\; color: black\; mso-fareast-font-family: 'times new roman'">fine jewelry gift items for &quot\;Valentine&#39\;s Day&quot\; including the</span><span style="font-family: 'arial'\, 'sans-serif'\; color: black\; font-size: 10pt\; mso-fareast-font-family: 'times new roman'"><o:p></o:p></span></font></p>\n<p class="MsoNormal" style="margin: 0in 0in 0pt">\n	<font size="3"><span style="font-family: 'arial'\, 'sans-serif'\; color: black\; mso-fareast-font-family: 'times new roman'">&quot\;Gypsy Collection&quot\; in 14K gold and gemstones\, starting</span><span style="font-family: 'arial'\, 'sans-serif'\; color: black\; font-size: 10pt\; mso-fareast-font-family: 'times new roman'"><o:p></o:p></span></font></p>\n<p class="MsoNormal" style="margin: 0in 0in 0pt">\n	<font size="3"><span style="font-family: 'arial'\, 'sans-serif'\; color: black\; mso-fareast-font-family: 'times new roman'">at only $225!</span><span style="font-family: 'arial'\, 'sans-serif'\; color: black\; font-size: 10pt\; mso-fareast-font-family: 'times new roman'"><o:p></o:p></span></font></p>\n<p class="MsoNormal" style="margin: 0in 0in 0pt">\n	<span style="font-family: 'arial'\, 'sans-serif'\; color: black\; font-size: 10pt\; mso-fareast-font-family: 'times new roman'">&nbsp\;<o:p></o:p></span></p>\n<span style="font-family: 'arial'\, 'sans-serif'\; color: black\; font-size: 10pt\; mso-fareast-font-family: 'times new roman'\; mso-ansi-language: en-us\; mso-fareast-language: en-us\; mso-bidi-language: ar-sa"><v:shapetype coordsize="21600\,21600" filled="f" id="_x0000_t75" o:preferrelative="t" o:spt="75" path="m@4@5l@4@11@9@11@9@5xe" stroked="f"><v:stroke joinstyle="miter"></v:stroke><v:formulas><v:f eqn="if lineDrawn pixelLineWidth 0"></v:f><v:f eqn="sum @0 1 0"></v:f><v:f eqn="sum 0 0 @1"></v:f><v:f eqn="prod @2 1 2"></v:f><v:f eqn="prod @3 21600 pixelWidth"></v:f><v:f eqn="prod @3 21600 pixelHeight"></v:f><v:f eqn="sum @0 0 1"></v:f><v:f eqn="prod @6 1 2"></v:f><v:f eqn="prod @7 21600 pixelWidth"></v:f><v:f eqn="sum @8 21600 0"></v:f><v:f eqn="prod @7 21600 pixelHeight"></v:f><v:f eqn="sum @10 21600 0"></v:f></v:formulas><v:path gradientshapeok="t" o:connecttype="rect" o:extrusionok="f"></v:path><o:lock aspectratio="t" v:ext="edit"></o:lock></v:shapetype><v:shape alt="" id="MA1.1297263380" o:spid="_x0000_i1025" style="width: 120pt\; height: 30pt" type="#_x0000_t75"><v:imagedata o:href="cid:X.MA1.1297263380@aol.com" src="file:///C:\\DOCUME~1\\info\\LOCALS~1\\Temp\\msohtmlclip1\\01\\clip_image001.jpg"></v:imagedata></v:shape></span><br style="mso-special-character: line-break" />\n<br style="mso-special-character: line-break" />\n
LOCATION:Key Executive Building - 104 Crandon Blvd. Suite 421A
UID:e.330.3070
SEQUENCE:3
DTSTAMP:20260421T213847Z
URL:https://business.keybiscaynechamber.org/events/details/special-valentine-s-day-open-house-02-14-2011-3070
END:VEVENT

END:VCALENDAR
