BEGIN:VCALENDAR
VERSION:2.0
PRODID:-//ChamberMaster//Event Calendar 2.0//EN
METHOD:PUBLISH
X-PUBLISHED-TTL:P3D
REFRESH-INTERVAL:P3D
CALSCALE:GREGORIAN
BEGIN:VEVENT
DTSTART:20250929T220000Z
DTEND:20250929T223000Z
X-MICROSOFT-CDO-ALLDAYEVENT:FALSE
SUMMARY:Special Council Meeting
DESCRIPTION:Village of Key Biscayne\n\nOffice of the Village Clerk\n\n \n\nPUBLIC NOTICE\n\n \n\nNotice is hereby given that\n\nMayor Joe I. Rasco has called for a\n\nSpecial Council Meeting for\n\n \n\nMonday\, September 29\, 2025\n\nat 6:15 p.m.\n\n \n\nVillage Council Chamber\n\n560 Crandon Boulevard\n\n(behind the Fire Station)\n\n \n\n \n\nThe purpose of the meeting is the first reading of an ordinance regarding the E-Bikes Sunset Period\, a report on Speed Detection Systems\, a 2025 Annual Red Light Camera Program Report\, and the second reading of a Capital Project ordinance approving the purchase of Motorola Police Radios\, APX Dispatch Consolettes\, and related services from Motorola Solutions\, Inc. in an amount not to exceed $556\,051.92.\n\n\n\nSpecial Council Meeting Agenda\n\n \n\nViewing Instructions
X-ALT-DESC;FMTTYPE=text/html:<div class="modal-description clearfix" id="modal-event-description" style="box-sizing: border-box\; color: rgb(26\, 26\, 26)\; font-family: Inter\, sans-serif\; font-size: 16px\;">\n<div style="box-sizing: border-box\; text-align: center\;">Village of Key Biscayne</div>\n\n<div style="box-sizing: border-box\; text-align: center\;"><em style="box-sizing: border-box\;">Office of the Village Clerk</em></div>\n\n<div style="box-sizing: border-box\; text-align: center\;">&nbsp\;</div>\n\n<div style="box-sizing: border-box\; text-align: center\;">PUBLIC NOTICE</div>\n\n<div style="box-sizing: border-box\; text-align: center\;">&nbsp\;</div>\n\n<div style="box-sizing: border-box\; text-align: center\;">Notice is hereby given that</div>\n\n<div style="box-sizing: border-box\; text-align: center\;">Mayor Joe I. Rasco has called for a</div>\n\n<div style="box-sizing: border-box\; text-align: center\;">Special Council Meeting for</div>\n\n<div style="box-sizing: border-box\; text-align: center\;">&nbsp\;</div>\n\n<div style="box-sizing: border-box\; text-align: center\;">Monday\, September 29\, 2025</div>\n\n<div style="box-sizing: border-box\; text-align: center\;">at 6:15 p.m.</div>\n\n<div style="box-sizing: border-box\; text-align: center\;">&nbsp\;</div>\n\n<div style="box-sizing: border-box\; text-align: center\;">Village Council Chamber</div>\n\n<div style="box-sizing: border-box\; text-align: center\;">560 Crandon Boulevard</div>\n\n<div style="box-sizing: border-box\; text-align: center\;">(behind the Fire Station)</div>\n\n<div style="box-sizing: border-box\; text-align: center\;">&nbsp\;</div>\n\n<div style="box-sizing: border-box\; text-align: center\;">&nbsp\;</div>\n\n<div style="box-sizing: border-box\; text-align: center\;">The purpose of the meeting is the first reading of an ordinance regarding the E-Bikes Sunset Period\, a report on Speed Detection Systems\, a 2025 Annual Red Light Camera Program Report\, and the second reading of a Capital Project ordinance approving the purchase of Motorola Police Radios\, APX Dispatch Consolettes\, and related services from Motorola Solutions\, Inc. in an amount not to exceed $556\,051.92.<br />\n<br />\n<span style="font-family:times new roman\,serif\;"><a href="https://d3n9y02raazwpg.cloudfront.net/keybiscayne/53b03bed-93d7-11f0-8df7-005056a89546-4206a9c6-5dc6-45bb-9df3-1259d90bcd76-1758748950.pdf" style="color:rgb(70\, 120\, 134)\;">Special Council Meeting Agenda</a></span><br />\n&nbsp\;<br />\n<span style="font-family:times new roman\,serif\;"><a href="https://keybiscayne.fl.gov/government/village_tv.php" style="color:rgb(70\, 120\, 134)\;">Viewing Instructions</a></span><br />\n&nbsp\;</div>\n</div>\n
LOCATION:Village Council Chamber
UID:e.330.23227
SEQUENCE:3
DTSTAMP:20260425T001413Z
URL:https://business.keybiscaynechamber.org/events/details/special-council-meeting-09-29-2025-23227
END:VEVENT

END:VCALENDAR
