BEGIN:VCALENDAR
VERSION:2.0
PRODID:-//ChamberMaster//Event Calendar 2.0//EN
METHOD:PUBLISH
X-PUBLISHED-TTL:P3D
REFRESH-INTERVAL:P3D
CALSCALE:GREGORIAN
BEGIN:VEVENT
DTSTART:20140425T180000Z
DTEND:20140426T150000Z
X-MICROSOFT-CDO-ALLDAYEVENT:FALSE
SUMMARY:Specatucaler Plant Sale for American Cancer Society
DESCRIPTION:Coldwell Banker will be hosting a Spectacular Plant Sale for the American Cancer Society. All proceeds go towards cancer research.
X-ALT-DESC;FMTTYPE=text/html:Coldwell Banker will be hosting a Spectacular Plant Sale for the American Cancer Society. All proceeds go towards cancer research.<br>\n&nbsp\;
LOCATION:Key Biscayne Village Green
UID:e.330.4095
SEQUENCE:3
DTSTAMP:20260419T134134Z
URL:https://business.keybiscaynechamber.org/events/details/specatucaler-plant-sale-for-american-cancer-society-04-25-2014-4095
END:VEVENT

END:VCALENDAR
