BEGIN:VCALENDAR
VERSION:2.0
PRODID:-//ChamberMaster//Event Calendar 2.0//EN
METHOD:PUBLISH
X-PUBLISHED-TTL:P3D
REFRESH-INTERVAL:P3D
CALSCALE:GREGORIAN
BEGIN:VEVENT
DTSTART:20130330T210000Z
DTEND:20130331T000000Z
X-MICROSOFT-CDO-ALLDAYEVENT:FALSE
SUMMARY:SPANISH WINES & GIN TASTING
DESCRIPTION:HIGHLY RATED SPANISH WINES: ALION\, PINTIA & CUNE IMPERIAL\n\n\n\n\n\nBOMBAY SAPPHIRE GIN
X-ALT-DESC;FMTTYPE=text/html:<strong><span style="font-family: verdana"><span style="font-size: 12px">HIGHLY RATED SPANISH WINES: ALION\, PINTIA &amp\; CUNE IMPERIAL<br />\n<br />\n<br />\nBOMBAY SAPPHIRE GIN</span></span></strong>
LOCATION:STEFANO?S WINE & LIQUOR AT THE GALLERIA MALL
UID:e.330.3883
SEQUENCE:3
DTSTAMP:20260420T091139Z
URL:https://business.keybiscaynechamber.org/events/details/spanish-wines-gin-tasting-03-30-2013-3883
END:VEVENT

END:VCALENDAR
