BEGIN:VCALENDAR
VERSION:2.0
PRODID:-//ChamberMaster//Event Calendar 2.0//EN
METHOD:PUBLISH
X-PUBLISHED-TTL:P3D
REFRESH-INTERVAL:P3D
CALSCALE:GREGORIAN
BEGIN:VEVENT
DTSTART:20130406T210000Z
DTEND:20130407T000000Z
X-MICROSOFT-CDO-ALLDAYEVENT:FALSE
SUMMARY:SPANISH WINES AND RUM TASTING!
DESCRIPTION:TRAMUZ SPANISH BLEND\, RIBERA DEL DUERO\n\n\n\n10 CANE RUM
X-ALT-DESC;FMTTYPE=text/html:<span style="font-size: 14px">TRAMUZ SPANISH BLEND\, RIBERA DEL DUERO<br />\n<br />\n10 CANE RUM</span>
LOCATION:STEFANO'S WINE & LIQUOR AT THE GALLERIA MALL
UID:e.330.3886
SEQUENCE:3
DTSTAMP:20260420T074641Z
URL:https://business.keybiscaynechamber.org/events/details/spanish-wines-and-rum-tasting-04-06-2013-3886
END:VEVENT

END:VCALENDAR
