BEGIN:VCALENDAR
VERSION:2.0
PRODID:-//ChamberMaster//Event Calendar 2.0//EN
METHOD:PUBLISH
X-PUBLISHED-TTL:P3D
REFRESH-INTERVAL:P3D
CALSCALE:GREGORIAN
BEGIN:VEVENT
DTSTART:20121123T220000Z
DTEND:20121124T010000Z
X-MICROSOFT-CDO-ALLDAYEVENT:FALSE
SUMMARY:SPANISH WINE TASTING AT STEFANOS WINE & LIQUOR
DESCRIPTION:Spanish Wine Tasting\n\nLocations by Orin Swift
X-ALT-DESC;FMTTYPE=text/html:<br />\n<span style="font-size: 16px">Spanish Wine Tasting<br />\nLocations by Orin Swift</span><br />\n
LOCATION:STEFANOS WINE & LIQUOR
UID:e.330.3806
SEQUENCE:3
DTSTAMP:20260420T145710Z
URL:https://business.keybiscaynechamber.org/events/details/spanish-wine-tasting-at-stefanos-wine-liquor-11-23-2012-3806
END:VEVENT

END:VCALENDAR
