BEGIN:VCALENDAR
VERSION:2.0
PRODID:-//ChamberMaster//Event Calendar 2.0//EN
METHOD:PUBLISH
X-PUBLISHED-TTL:P3D
REFRESH-INTERVAL:P3D
CALSCALE:GREGORIAN
BEGIN:VEVENT
DTSTART:20121208T220000Z
DTEND:20121209T010000Z
X-MICROSOFT-CDO-ALLDAYEVENT:FALSE
SUMMARY:SPANISH WINE TASTING
DESCRIPTION:Mauro\, from Castilla y Leon\n\nIrun\, Verdejo\n\nPintia\, from the Vega Sicilia Family
X-ALT-DESC;FMTTYPE=text/html:<span style="font-size: 16px">Mauro\, from Castilla y Leon<br />\nIrun\, Verdejo<br />\nPintia\, from the Vega Sicilia Family</span><br />\n
LOCATION:STEFANO'S WINE & LIQUOR AT THE GALLERIA MALL
UID:e.330.3825
SEQUENCE:3
DTSTAMP:20260420T132529Z
URL:https://business.keybiscaynechamber.org/events/details/spanish-wine-tasting-12-08-2012-3825
END:VEVENT

END:VCALENDAR
