BEGIN:VCALENDAR
VERSION:2.0
PRODID:-//ChamberMaster//Event Calendar 2.0//EN
METHOD:PUBLISH
X-PUBLISHED-TTL:P3D
REFRESH-INTERVAL:P3D
CALSCALE:GREGORIAN
BEGIN:VEVENT
DTSTART:20121201T220000Z
DTEND:20121202T010000Z
X-MICROSOFT-CDO-ALLDAYEVENT:FALSE
SUMMARY:SPANISH WINE TASTING
DESCRIPTION:Highly Rated Spanish Wines from Ribera del Duero & Castilla Y Leon \nMauro\n\nAbadia Retuerta\, Seleccion Especial\n\nMarques de Irun\, Verdejo
X-ALT-DESC;FMTTYPE=text/html:<p>\n	<span style="font-size: 16px">Highly Rated Spanish Wines from Ribera del Duero &amp\; Castilla Y Leon </span></p>\n<span style="font-size: 16px">Mauro<br />\nAbadia Retuerta\, Seleccion Especial<br />\nMarques de Irun\, Verdejo</span><br />\n
LOCATION:STEFANOS WINE & LIQUOR AT THE GALLERIA MALL
UID:e.330.3815
SEQUENCE:3
DTSTAMP:20260420T132528Z
URL:https://business.keybiscaynechamber.org/events/details/spanish-wine-tasting-12-01-2012-3815
END:VEVENT

END:VCALENDAR
