BEGIN:VCALENDAR
VERSION:2.0
PRODID:-//ChamberMaster//Event Calendar 2.0//EN
METHOD:PUBLISH
X-PUBLISHED-TTL:P3D
REFRESH-INTERVAL:P3D
CALSCALE:GREGORIAN
BEGIN:VEVENT
DTSTART:20130309T220000Z
DTEND:20130310T010000Z
X-MICROSOFT-CDO-ALLDAYEVENT:FALSE
SUMMARY:SPANISH WINE TASTING!
DESCRIPTION:CUVE CRIANZA\, RIOJA\n\nVINA REAL\, RIOJA\n\n\n\nSPIRIT OF THE WEEK:\n\n\n\nJOHHNIE WALKER GOLD LABEL $72.99
X-ALT-DESC;FMTTYPE=text/html:CUVE CRIANZA\, RIOJA<br />\nVINA REAL\, RIOJA<br />\n<br />\nSPIRIT OF THE WEEK:<br />\n<br />\nJOHHNIE WALKER GOLD LABEL $72.99
LOCATION:STEFANO?S WINE & LIQUOR AT THE GALLERIA MALL
UID:e.330.3868
SEQUENCE:3
DTSTAMP:20260420T091105Z
URL:https://business.keybiscaynechamber.org/events/details/spanish-wine-tasting-03-09-2013-3868
END:VEVENT

END:VCALENDAR
