BEGIN:VCALENDAR
VERSION:2.0
PRODID:-//ChamberMaster//Event Calendar 2.0//EN
METHOD:PUBLISH
X-PUBLISHED-TTL:P3D
REFRESH-INTERVAL:P3D
CALSCALE:GREGORIAN
BEGIN:VEVENT
DTSTART:20120331T020000Z
DTEND:20120330T060000Z
X-MICROSOFT-CDO-ALLDAYEVENT:FALSE
SUMMARY:Soul Night at The Ibis Lounge
DESCRIPTION:Come dance to soulful house\, classic house and classic disco by Soulcentric
X-ALT-DESC;FMTTYPE=text/html:<p>\n	Come dance to soulful house\, classic house and classic disco by Soulcentric</p>\n
LOCATION:The Ibis Lounge 200 Crandon Blvd #101 Key Biscayne\, Fl 33149
UID:e.330.3666
SEQUENCE:3
DTSTAMP:20260421T043843Z
URL:https://business.keybiscaynechamber.org/events/details/soul-night-at-the-ibis-lounge-03-30-2012-3666
END:VEVENT

END:VCALENDAR
