BEGIN:VCALENDAR
VERSION:2.0
PRODID:-//ChamberMaster//Event Calendar 2.0//EN
METHOD:PUBLISH
X-PUBLISHED-TTL:P3D
REFRESH-INTERVAL:P3D
CALSCALE:GREGORIAN
BEGIN:VEVENT
DTSTART;VALUE=DATE:20120319
DTEND;VALUE=DATE:20120402
TRANSP:TRANSPARENT
X-MICROSOFT-CDO-ALLDAYEVENT:TRUE
SUMMARY:Sony Ericsson Tennis Open
DESCRIPTION:Sony Ericsson Tennis
X-ALT-DESC;FMTTYPE=text/html:Sony Ericsson Tennis
LOCATION:The Tennis Center at Crandon Park Key Biscayne\, FL 33149
UID:e.330.3619
SEQUENCE:3
DTSTAMP:20260421T014854Z
URL:https://business.keybiscaynechamber.org/events/details/sony-ericsson-tennis-open-03-19-2012-3619
END:VEVENT

END:VCALENDAR
