BEGIN:VCALENDAR
VERSION:2.0
PRODID:-//ChamberMaster//Event Calendar 2.0//EN
METHOD:PUBLISH
X-PUBLISHED-TTL:P3D
REFRESH-INTERVAL:P3D
CALSCALE:GREGORIAN
BEGIN:VEVENT
DTSTART;VALUE=DATE:20110321
DTEND;VALUE=DATE:20110404
TRANSP:TRANSPARENT
X-MICROSOFT-CDO-ALLDAYEVENT:TRUE
SUMMARY:Sony Ericsson Open 2011
DESCRIPTION:Sony Ericsson Open - the Chamber will have a tent at this event.
X-ALT-DESC;FMTTYPE=text/html:Sony Ericsson Open - the Chamber will&nbsp\;have a tent at this event.
LOCATION:Tennis Center Crandon Park
UID:e.330.3049
SEQUENCE:3
DTSTAMP:20260421T184854Z
URL:https://business.keybiscaynechamber.org/events/details/sony-ericsson-open-2011-03-21-2011-3049
END:VEVENT

END:VCALENDAR
