BEGIN:VCALENDAR
VERSION:2.0
PRODID:-//ChamberMaster//Event Calendar 2.0//EN
METHOD:PUBLISH
X-PUBLISHED-TTL:P3D
REFRESH-INTERVAL:P3D
CALSCALE:GREGORIAN
BEGIN:VEVENT
DTSTART:20110920T210000Z
DTEND:20110920T220000Z
X-MICROSOFT-CDO-ALLDAYEVENT:FALSE
SUMMARY:Social Media - Do you really need it all?
DESCRIPTION:Join the Key Biscayne Chamber of Commerce for insight into what social \n\nmedia platforms work for local businesses by the person who does the \n\n input! How much work is it? Should you have everything? Why?\n\n\n\nCome with your questions for our panelists\n\n \n\nMike Davey- Lawyer\, Law Offices of Michael W. Davey PL\n\nPaola Padovan- Realtor\, Ocean Club Realty\n\nSharif  Salem- Manager\, The Island Shop  \n\nAubrey Swanson- Social Media Coordinator\, Kaufman\, Rossin & Co.\, PA
X-ALT-DESC;FMTTYPE=text/html:<span style="font-size: 12px\;"><span style="font-family: arial\;"><span style="font-weight: bold\;">Join the Key Biscayne Chamber of Commerce for insight into what social </span><br />\n<span style="font-weight: bold\;">media platforms work for local businesses by the person who does the </span><br />\n<span style="font-weight: bold\;">&nbsp\;input! How much work is it? Should you have everything? Why?</span></span></span><br />\n<br />\n<span style="font-size: 11px\;"><span style="font-weight: bold\;"><span style="font-family: itc avant garde gothic\;">Come with your questions for our panelists</span></span><br />\n&nbsp\;<br />\n<span style="font-weight: bold\;"><span style="color: rgb(0\, 0\, 204)\;"><span style="font-family: itc avant garde gothic\;">Mike Davey- Lawyer\, Law Offices of Michael W. Davey </span></span></span><span style="font-weight: bold\;"><span style="color: rgb(0\, 0\, 204)\;"><span style="font-family: itc avant garde gothic\;">PL</span></span></span><br />\n<span style="font-weight: bold\;"><span style="color: rgb(0\, 0\, 204)\;"><span style="font-family: itc avant garde gothic\;">Paola Padovan- Realtor\, Ocean Club Realty</span></span></span><br />\n<span style="font-weight: bold\;"><span style="color: rgb(0\, 0\, 204)\;"><span style="font-family: itc avant garde gothic\;">Sharif&nbsp\; Salem- Manager\, The Island Shop&nbsp\; </span></span></span><br />\n<span style="font-weight: bold\;"><span style="color: rgb(0\, 0\, 204)\;"><span style="font-family: itc avant garde gothic\;">Aubrey Swanson- </span></span></span><span style="font-weight: bold\;"><span style="color: rgb(0\, 0\, 204)\;"><span style="font-family: itc avant garde gothic\;">Social Media Coordinator\, Kaufman\, Rossin &amp\; Co.\, </span></span></span><span style="font-weight: bold\;"><span style="color: rgb(0\, 0\, 204)\;"><span style="font-family: itc avant garde gothic\;">PA</span></span></span></span><br />\n&nbsp\;<br />\n&nbsp\;
LOCATION:Village Council Chambers 560 Crandon - Enter on Village Green Way
UID:e.330.3470
SEQUENCE:3
DTSTAMP:20260421T115558Z
URL:https://business.keybiscaynechamber.org/events/details/social-media-do-you-really-need-it-all-09-20-2011-3470
END:VEVENT

END:VCALENDAR
