BEGIN:VCALENDAR
VERSION:2.0
PRODID:-//ChamberMaster//Event Calendar 2.0//EN
METHOD:PUBLISH
X-PUBLISHED-TTL:P3D
REFRESH-INTERVAL:P3D
CALSCALE:GREGORIAN
BEGIN:VEVENT
DTSTART;VALUE=DATE:20131130
DTEND;VALUE=DATE:20131201
TRANSP:TRANSPARENT
X-MICROSOFT-CDO-ALLDAYEVENT:TRUE
SUMMARY:Small Business Saturday
DESCRIPTION:The nationwide Small Business Saturday will be observed Saturday\, November 30. That day will also mark the kickoff of the Key Biscayne Chamber of Commerce Holiday Storefront Display and Inside Decorating contests. For more information\, call 305-361-5207.
X-ALT-DESC;FMTTYPE=text/html:<div style="color: gray">\n	<span style="color: #000000"><span style="font-size: medium"><span style="font-family: times new roman">The nationwide Small Business Saturday will be observed Saturday\, November 30. That day will also mark the kickoff of the Key Biscayne Chamber of Commerce Holiday Storefront Display and Inside Decorating contests. For more information\, call 305-361-5207.&nbsp\; </span></span></span></div>\n
LOCATION:At all participating stores
UID:e.330.3995
SEQUENCE:3
DTSTAMP:20260419T203847Z
URL:https://business.keybiscaynechamber.org/events/details/small-business-saturday-11-30-2013-3995
END:VEVENT

END:VCALENDAR
