BEGIN:VCALENDAR
VERSION:2.0
PRODID:-//ChamberMaster//Event Calendar 2.0//EN
METHOD:PUBLISH
X-PUBLISHED-TTL:P3D
REFRESH-INTERVAL:P3D
CALSCALE:GREGORIAN
BEGIN:VEVENT
DTSTART;VALUE=DATE:20111126
DTEND;VALUE=DATE:20111127
TRANSP:TRANSPARENT
X-MICROSOFT-CDO-ALLDAYEVENT:TRUE
SUMMARY:Small Business Saturday
DESCRIPTION:Come shop with us to support small businesses and\n\n	your local economy! \n\n	 \n\n\nThis November 26th is a big day for small businesses. It is the second annual Small Business Saturday\, when people across the country come out and shop to support their favorite local businesses. Recognize the value of our local businesses and show you care by "Keeping it on the Key" and shop at our independently-owned stores on November 26th.
X-ALT-DESC;FMTTYPE=text/html:<p style="text-align: center">\n	<strong><span style="font-size: 10pt"><span style="font-family: arial\,sans-serif"><span style="color: #b22222"><span style="font-size: 16px"><span style="font-family: tahoma">Come shop with us to support small businesses and<br />\n	your local economy! </span></span></span></span></span></strong><br />\n	&nbsp\;</p>\n<br />\n<span style="color: #0000cd"><span style="font-size: 14px"><span style="font-family: arial\,sans-serif">This November 26<sup>th</sup> is a big day for small businesses. It is the second annual Small Business Saturday\, when people across the country come out and shop to support their favorite local businesses. Recognize the value of our local businesses and show you care by &ldquo\;Keeping it on the Key&rdquo\; and shop at our independently-owned stores on November 26<sup>th</sup>.</span></span></span><br />\n
LOCATION:Your favorite local merchants' stores!
UID:e.330.3498
SEQUENCE:3
DTSTAMP:20260421T090145Z
URL:https://business.keybiscaynechamber.org/events/details/small-business-saturday-11-26-2011-3498
END:VEVENT

END:VCALENDAR
