BEGIN:VCALENDAR
VERSION:2.0
PRODID:-//ChamberMaster//Event Calendar 2.0//EN
METHOD:PUBLISH
X-PUBLISHED-TTL:P3D
REFRESH-INTERVAL:P3D
CALSCALE:GREGORIAN
BEGIN:VEVENT
DTSTART:20251120T160000Z
DTEND:20251120T220000Z
X-MICROSOFT-CDO-ALLDAYEVENT:FALSE
SUMMARY:Sip and See
DESCRIPTION:It's that time of year!\n\n \nThe annual KB Female Entrepreneurs Showcase is back and better than ever!\n\n\n\nCome mix\, mingle\, and shop small discover the perfect holiday gift\, a little something for yourself\, or that must-have dress from disrobed. (perfect for your holiday beach getaway!).\n\n\n\nSpread the word and bring a friend this is the place to be!
X-ALT-DESC;FMTTYPE=text/html:&nbsp\;\n<div><span style="color:#008000\;"><em><span style="font-size:24px\;"><strong>It&rsquo\;s that time of year!</strong></span></em></span><br />\n&nbsp\;</div>\n<span style="font-size:14px\;">The annual KB Female Entrepreneurs Showcase is back and better than ever!<br />\n<br />\nCome mix\, mingle\, and shop small&mdash\;discover the perfect holiday gift\, a little something for yourself\, or that must-have dress from disrobed. (perfect for your holiday beach getaway!).<br />\n<br />\nSpread the word and bring a friend&mdash\;this is the place to be!</span>
LOCATION:Ocean Club Tower 3
UID:e.330.23279
SEQUENCE:3
DTSTAMP:20260424T193606Z
URL:https://business.keybiscaynechamber.org/events/details/sip-and-see-23279
END:VEVENT

END:VCALENDAR
