BEGIN:VCALENDAR
VERSION:2.0
PRODID:-//ChamberMaster//Event Calendar 2.0//EN
METHOD:PUBLISH
X-PUBLISHED-TTL:P3D
REFRESH-INTERVAL:P3D
CALSCALE:GREGORIAN
BEGIN:VEVENT
DTSTART:20121228T220000Z
DTEND:20121229T010000Z
X-MICROSOFT-CDO-ALLDAYEVENT:FALSE
SUMMARY:Single Malt Tasting & Premium Vodka
DESCRIPTION:HIGHLAND PARK SINGLE MALT SCOTCH
X-ALT-DESC;FMTTYPE=text/html:<p>\n	HIGHLAND PARK SINGLE MALT SCOTCH</p>\n
LOCATION:STEFANO'S WINE & LIQUOR AT THE GALLERIA MALL
UID:e.330.3832
SEQUENCE:3
DTSTAMP:20260420T145333Z
URL:https://business.keybiscaynechamber.org/events/details/single-malt-tasting-premium-vodka-12-28-2012-3832
END:VEVENT

END:VCALENDAR
