BEGIN:VCALENDAR
VERSION:2.0
PRODID:-//ChamberMaster//Event Calendar 2.0//EN
METHOD:PUBLISH
X-PUBLISHED-TTL:P3D
REFRESH-INTERVAL:P3D
CALSCALE:GREGORIAN
BEGIN:VEVENT
DTSTART;VALUE=DATE:20131121
DTEND;VALUE=DATE:20140107
TRANSP:TRANSPARENT
X-MICROSOFT-CDO-ALLDAYEVENT:TRUE
SUMMARY:Shop on the Key Holiday Contest
DESCRIPTION:The annual Key Biscayne Chamber of Commerce Shop on the Key Holiday Contest will begin Thursday\, November 21. After making a purchase at participating stores and restaurants\, customers can fill out a raffle card that puts them in the running for a $500 cash prize. The winner will be announced Monday\, January 6. For more information\, call the Chamber at 305-361-5207.
X-ALT-DESC;FMTTYPE=text/html:<div style="color: gray">\n	<span style="color: #000000"><span style="font-size: medium"><span style="font-family: times new roman">The annual Key Biscayne Chamber of Commerce Shop on the Key Holiday Contest will begin Thursday\, November 21. After making a purchase at participating stores and restaurants\, customers can fill out a raffle card that puts them in the running for a $500 cash prize. The winner will be announced Monday\, January 6. For more information\, call the Chamber at 305-361-5207.</span></span></span><br />\n	&nbsp\;</div>\n
LOCATION:At participating stores on the Key
UID:e.330.3994
SEQUENCE:3
DTSTAMP:20260419T180217Z
URL:https://business.keybiscaynechamber.org/events/details/shop-on-the-key-holiday-contest-11-21-2013-3994
END:VEVENT

END:VCALENDAR
