BEGIN:VCALENDAR
VERSION:2.0
PRODID:-//ChamberMaster//Event Calendar 2.0//EN
METHOD:PUBLISH
X-PUBLISHED-TTL:P3D
REFRESH-INTERVAL:P3D
CALSCALE:GREGORIAN
BEGIN:VEVENT
DTSTART:20260116T231500Z
DTEND:20260117T014000Z
X-MICROSOFT-CDO-ALLDAYEVENT:FALSE
SUMMARY:Shabbat Pasión at Center for Jewish Life BD
DESCRIPTION:A Latin inspired Friday night Shabbat service infused with soulful music\, festive rhythm\, and deep spirituality. Join us as we celebrate through joyful song\, meaningful prayer\, and the warmth of our community.
X-ALT-DESC;FMTTYPE=text/html:<br />\n<br />\n<span style="font-size:20px\;">A Latin inspired Friday night Shabbat service infused with soulful music\, festive rhythm\, and deep spirituality. Join us as we celebrate through joyful song\, meaningful prayer\, and the warmth of our community.</span>
LOCATION:Center for Jewish Life at Beth David
UID:e.330.23316
SEQUENCE:3
DTSTAMP:20260424T194027Z
URL:https://business.keybiscaynechamber.org/events/details/shabbat-pasi&#243;n-at-center-for-jewish-life-bd-23316
END:VEVENT

END:VCALENDAR
