BEGIN:VCALENDAR
VERSION:2.0
PRODID:-//ChamberMaster//Event Calendar 2.0//EN
METHOD:PUBLISH
X-PUBLISHED-TTL:P3D
REFRESH-INTERVAL:P3D
CALSCALE:GREGORIAN
BEGIN:VEVENT
DTSTART:20110506T220000Z
DTEND:20110507T000000Z
X-MICROSOFT-CDO-ALLDAYEVENT:FALSE
SUMMARY:Sex\, Drugs and Sea Slime
DESCRIPTION:A special presentation\, reception\, and book-signing celebrating the release of:\n\nSex\, Drugs\, and Sea Slime:\n\nThe Oceans' Oddest Creatures and Why They Matter\n\nby\n\nDr. Ellen Prager\n\nDr. Prager presents stories and images from her just-released book highlighting the strange cast of characters that inhabit the oceans' depths and how they are connected to society in everything from our food supply to the economy\, jobs\, and in biomedical research and biotechnology.\n\nFrom the tiny voracious arrow worms whose predatory ways may lead to death by overeating to the hagfish that ties itself into a knot to keep from suffocating in its own slime or the sea slug whose sexual encounters can truly turn into a dangerous liaison due to untimely cannibalism\, Prager provides an entertaining ocean tell-all and a realistic look at why we all should care about the loss of species in the sea.\n\nWith opening remarks by U.S. Congresswoman Ileana Ros-Lehtinen and U.S. Congressman Mario Diaz-Balart.\n\nWhen:Friday\, May 6th\n\nTime: Lecture begins at 6:00 p.m. with book signing and reception to follow\n\nWhere: University of Miami's Rosenstiel School Auditorium\, 4600 Rickenbacker Causeway (next to the Miami Seaquarium)\n\nDetails:Books will be available for purchase ($27.82 including tax)\n\nSponsored by Celebrity Cruises\n\n \n\nFor additional event information\, please contact lbracken@rsmas.miami.edu or\n\n305-421-4207.\n\nTo learn more about Dr. Prager\, go to www.earth2ocean.net or check out her page on facebook.\n\nAll events are free and open to the public\, however seating is limited.
X-ALT-DESC;FMTTYPE=text/html:<span style="font-size: 14pt"><span style="color: black"><span style="font-family: helvetica\, sans-serif">A&nbsp\;special presentation\, reception\, and book-signing celebrating the release of:</span></span></span><br />\n<strong><em><span style="font-size: 16.5pt"><span style="color: #5226cc"><span style="font-family: times new roman">Sex\, Drugs\, and Sea Slime:</span></span></span></em></strong><br />\n<strong><em><span style="font-size: 15pt"><span style="color: #5226cc"><span style="font-family: helvetica\, sans-serif">The Oceans&rsquo\; Oddest Creatures and Why They Matter</span></span></span></em></strong><br />\n<span style="font-size: 14pt"><span style="color: black"><span style="font-family: helvetica\, sans-serif">by</span></span></span><br />\n<strong><span style="font-size: 14pt"><span style="color: #5226cc"><span style="font-family: helvetica\, sans-serif">Dr. Ellen Prager</span></span></span></strong><br />\n<span style="font-size: 10.5pt"><span style="color: black"><span style="font-family: helvetica\, sans-serif">Dr. Prager presents stories and images from her just-released book highlighting the strange cast of characters that inhabit the oceans&#39\; depths and how they are connected to society in everything from our food supply to the economy\, jobs\, and in biomedical research and biotechnology.</span></span></span><br />\n<span style="font-size: 10.5pt"><span style="color: black"><span style="font-family: helvetica\, sans-serif">From the tiny voracious arrow worms whose predatory ways may lead to death by overeating to the hagfish that ties itself into a knot to keep from suffocating in its own slime or the sea slug whose sexual encounters can truly turn into a dangerous liaison due to untimely cannibalism\, Prager provides an entertaining ocean tell-all and a realistic look at why we all should care about the loss of species in the sea.</span></span></span><br />\n<span style="font-family: times new roman"><span style="font-size: 10.5pt">With opening remarks by U.S. Congresswoman Ileana Ros-Lehtinen and U.S. Congressman Mario Diaz-Balart.</span></span><br />\n<strong><span style="font-size: 10.5pt"><span style="color: #5226cc"><span style="font-family: helvetica\, sans-serif">When:</span></span></span></strong><span style="font-size: 10.5pt"><span style="color: black"><span style="font-family: helvetica\, sans-serif">Friday\, May 6<sup>th</sup></span></span></span><br />\n<strong><sup><span style="font-size: 10.5pt"><span style="color: #5226cc"><span style="font-family: helvetica\, sans-serif">Time:</span></span></span></sup></strong>&nbsp\;<sup><span style="font-size: 10.5pt"><span style="color: black"><span style="font-family: helvetica\, sans-serif">Lecture begins at 6:00 p.m. with book signing and reception to follow</span></span></span></sup><br />\n<strong><span style="font-size: 10.5pt"><span style="color: #5226cc"><span style="font-family: helvetica\, sans-serif">Where:</span></span></span></strong><span style="font-size: 10.5pt"><span style="color: black"><span style="font-family: helvetica\, sans-serif">&nbsp\;University of Miami&rsquo\;s Rosenstiel School Auditorium\, 4600 Rickenbacker Causeway (next to the Miami Seaquarium)</span></span></span><br />\n<strong><span style="font-size: 10.5pt"><span style="color: #5226cc"><span style="font-family: helvetica\, sans-serif">Details:</span></span></span></strong><span style="font-size: 10.5pt"><span style="color: black"><span style="font-family: helvetica\, sans-serif">Books will be available for purchase ($27.82&nbsp\;including tax)</span></span></span><br />\n<span style="font-size: 14pt"><span style="color: #5226cc"><span style="font-family: helvetica\, sans-serif">Sponsored by Celebrity Cruises</span></span></span><br />\n&nbsp\;<br />\n<span style="font-size: 11pt"><span style="color: black"><span style="font-family: helvetica\, sans-serif">For additional event information\, please contact <a href="mailto:lbracken@rsmas.miami.edu">lbracken@rsmas.miami.edu</a> or<br />\n305-421-4207.</span></span></span><br />\n<span style="font-size: 11pt"><span style="color: black"><span style="font-family: helvetica\, sans-serif">To learn more about Dr. Prager\, go to </span></span></span><span style="color: black"><a href="http://www.earth2ocean.net"><span style="font-size: 11pt"><span style="font-family: helvetica\, sans-serif">www.earth2ocean.net</span></span></a>&nbsp\;</span><span style="font-size: 11pt"><span style="color: black"><span style="font-family: helvetica\, sans-serif">or check out her page on facebook.</span></span></span><br />\n<span style="font-size: 11pt"><span style="color: black"><span style="font-family: helvetica\, sans-serif"><span style="font-family: helvetica">All events are free and open to the public\, however seating is limited.</span></span></span></span>
LOCATION:University of Miami's Rosenstiel School Auditorium\, 4600 Rickenbacker Causeway (next to the Miami Seaquarium)
UID:e.330.3350
SEQUENCE:3
DTSTAMP:20260421T173544Z
URL:https://business.keybiscaynechamber.org/events/details/sex-drugs-and-sea-slime-05-06-2011-3350
END:VEVENT

END:VCALENDAR
