BEGIN:VCALENDAR
VERSION:2.0
PRODID:-//ChamberMaster//Event Calendar 2.0//EN
METHOD:PUBLISH
X-PUBLISHED-TTL:P3D
REFRESH-INTERVAL:P3D
CALSCALE:GREGORIAN
BEGIN:VEVENT
DTSTART:20120912T123000Z
DTEND:20120912T133000Z
X-MICROSOFT-CDO-ALLDAYEVENT:FALSE
SUMMARY:September Boardroom Breakfast
DESCRIPTION:British American Business Council Miami Boardroom Breakfast with Keynote speaker Kevin McGurgan OBE\, H.M. Consul General.\n\n\n\n"The Olympic Legacy"
X-ALT-DESC;FMTTYPE=text/html:<strong>British American Business Council Miami</strong> Boardroom Breakfast with Keynote speaker Kevin McGurgan OBE\, H.M. Consul General.<br />\n<br />\n&quot\;The Olympic Legacy&quot\;
LOCATION:British Consulate\, 1001 Brickell Bay Drive\, Suite 2800\, Miami\, FL 33131
UID:e.330.3765
SEQUENCE:3
DTSTAMP:20260420T174135Z
URL:https://business.keybiscaynechamber.org/events/details/september-boardroom-breakfast-09-12-2012-3765
END:VEVENT

END:VCALENDAR
