BEGIN:VCALENDAR
VERSION:2.0
PRODID:-//ChamberMaster//Event Calendar 2.0//EN
METHOD:PUBLISH
X-PUBLISHED-TTL:P3D
REFRESH-INTERVAL:P3D
CALSCALE:GREGORIAN
BEGIN:VEVENT
DTSTART:20120818T010000Z
DTEND:20120818T050000Z
X-MICROSOFT-CDO-ALLDAYEVENT:FALSE
SUMMARY:sensasion latina ALFREDO CHACON
DESCRIPTION:
X-ALT-DESC;FMTTYPE=text/html:
LOCATION:200 Crandon Blvd
UID:e.330.3752
SEQUENCE:3
DTSTAMP:20260420T193123Z
URL:https://business.keybiscaynechamber.org/events/details/sensasion-latina-alfredo-chacon-08-17-2012-3752
END:VEVENT

END:VCALENDAR
