BEGIN:VCALENDAR
VERSION:2.0
PRODID:-//ChamberMaster//Event Calendar 2.0//EN
METHOD:PUBLISH
X-PUBLISHED-TTL:P3D
REFRESH-INTERVAL:P3D
CALSCALE:GREGORIAN
BEGIN:VEVENT
DTSTART:20250929T223000Z
DTEND:20250930T023000Z
X-MICROSOFT-CDO-ALLDAYEVENT:FALSE
SUMMARY:Second Budget Hearing
DESCRIPTION:The Village of Key Biscayne will hold the Second Budget Hearing at 6:30 p.m. in the Council Chamber (560 Crandon Blvd - Rear of Fire Station). This meeting is open to the public. \n\n\n\nSecond Budget Hearing Agenda\n\n \n\nViewing Instructions\n\n\n\nYou can also watch the meeting live on the following channels:\n\n\n	Comcast/Xfinity cable: Channel 77 \n	AT&T U-Verse: Channel 99 (Government Channel) on the menu. Scroll and select "Village of Key Biscayne" on the list of municipalities that appear in the submenu. \n	Hotwire: Channel 1611\n\n\nClick here to watch the meeting via your computer on VKB-TV.\n\nFor more information\, please contact the Office of the Village Clerk at (305) 365-5506.
X-ALT-DESC;FMTTYPE=text/html:&nbsp\;\n<div class="modal-description clearfix" id="modal-event-description" style="box-sizing: border-box\; color: rgb(26\, 26\, 26)\; font-family: Inter\, sans-serif\; font-size: 16px\;">\n<p style="box-sizing: border-box\; margin: 0px 0px 15px\; line-height: 1.5\;">The Village of Key Biscayne will hold the Second Budget Hearing at 6:30 p.m. in the Council Chamber (560 Crandon Blvd - Rear of Fire Station). This meeting is open to the public.&nbsp\;<br />\n<br />\n<span style="color: rgb(26\, 26\, 26)\; font-size: 16px\; font-family: &quot\;times new roman&quot\;\, serif\;"><a href="https://d3n9y02raazwpg.cloudfront.net/keybiscayne/f4a90700-bd73-11ef-ab4b-005056a89546-4206a9c6-5dc6-45bb-9df3-1259d90bcd76-1758749028.pdf" style="color: rgb(70\, 120\, 134)\;">Second Budget Hearing Agenda</a></span><br style="color: rgb(26\, 26\, 26)\; font-family: Inter\, sans-serif\; font-size: 16px\;" />\n<span style="color: rgb(26\, 26\, 26)\; font-family: Inter\, sans-serif\; font-size: 16px\;">&nbsp\;</span><br style="color: rgb(26\, 26\, 26)\; font-family: Inter\, sans-serif\; font-size: 16px\;" />\n<span style="color: rgb(26\, 26\, 26)\; font-size: 16px\; font-family: &quot\;times new roman&quot\;\, serif\;"><a href="https://keybiscayne.fl.gov/government/village_tv.php" style="color: rgb(70\, 120\, 134)\;">Viewing Instructions</a></span><br style="color: rgb(26\, 26\, 26)\; font-family: Inter\, sans-serif\; font-size: 16px\;" />\n<br style="box-sizing: border-box\;" />\nYou can also watch the meeting live on the following channels:</p>\n\n<ul style="box-sizing: border-box\; margin-top: 0px\; margin-bottom: 20px\; margin-left: 10px\; list-style-position: initial\; list-style-image: initial\;">\n	<li style="box-sizing: border-box\; line-height: 1.3\; margin-bottom: 7px\;"><strong style="box-sizing: border-box\;">Comcast/Xfinity cable</strong>: Channel 77&nbsp\;</li>\n	<li style="box-sizing: border-box\; line-height: 1.3\; margin-bottom: 7px\;"><strong style="box-sizing: border-box\;">AT&amp\;T U-Verse</strong>: Channel&nbsp\;99 (Government Channel) on the menu. Scroll and select &quot\;Village of Key Biscayne&quot\; on the list of municipalities that appear in the submenu.&nbsp\;</li>\n	<li style="box-sizing: border-box\; line-height: 1.3\; margin-bottom: 7px\;"><strong style="box-sizing: border-box\;">Hotwire</strong>: Channel 1611</li>\n</ul>\n\n<p style="box-sizing: border-box\; margin: 0px 0px 15px\; line-height: 1.5\;"><a href="https://keybiscayne.granicus.com/player/camera/3?publish_id=309&amp\;redirect=true" rel="noopener" style="box-sizing: border-box\; color: rgb(30\, 62\, 171)\; background-color: transparent\; transition: background 0.3s ease 0s\; line-height: inherit\; word-break: break-all\;" target="_blank">Click here to watch the meeting via your computer on VKB-TV.</a></p>\n\n<p style="box-sizing: border-box\; margin: 0px 0px 15px\; line-height: 1.5\;">For more information\, please contact the Office of the Village Clerk at (305) 365-5506.<br />\n&nbsp\;</p>\n\n<p style="box-sizing: border-box\; margin: 0px 0px 15px\; line-height: 1.5\;">&nbsp\;</p>\n</div>\n
LOCATION:Village Council Chamber
UID:e.330.23228
SEQUENCE:3
DTSTAMP:20260425T001006Z
URL:https://business.keybiscaynechamber.org/events/details/second-budget-hearing-09-29-2025-23228
END:VEVENT

END:VCALENDAR
