BEGIN:VCALENDAR
VERSION:2.0
PRODID:-//ChamberMaster//Event Calendar 2.0//EN
METHOD:PUBLISH
X-PUBLISHED-TTL:P3D
REFRESH-INTERVAL:P3D
CALSCALE:GREGORIAN
BEGIN:VEVENT
DTSTART:20110505T220000Z
DTEND:20110506T000000Z
X-MICROSOFT-CDO-ALLDAYEVENT:FALSE
SUMMARY:Screening of Changing Seas at The Rosenstiel School
DESCRIPTION:Screening of the WPBT2 original production "Changing Seas".\n\n\n\nTakes viewers on exciting adventures below the water.\n\n\n\n\n\nReception 6pm\n\nScreening 7pm
X-ALT-DESC;FMTTYPE=text/html:<span style="font-family: arial"><span style="font-size: 12px">Screening of the WPBT2 original production &quot\;Changing Seas&quot\;.<br />\n<br />\nTakes viewers on exciting adventures below the water.<br />\n<br />\n<br />\nReception 6pm<br />\nScreening 7pm</span></span>
LOCATION:University of Miami Rosenstiel School\, 4600 Rickenbacker Causeway
UID:e.330.3375
SEQUENCE:3
DTSTAMP:20260421T174023Z
URL:https://business.keybiscaynechamber.org/events/details/screening-of-changing-seas-at-the-rosenstiel-school-05-05-2011-3375
END:VEVENT

END:VCALENDAR
