BEGIN:VCALENDAR
VERSION:2.0
PRODID:-//ChamberMaster//Event Calendar 2.0//EN
METHOD:PUBLISH
X-PUBLISHED-TTL:P3D
REFRESH-INTERVAL:P3D
CALSCALE:GREGORIAN
BEGIN:VEVENT
DTSTART:20120523T220000Z
DTEND:20120523T230000Z
X-MICROSOFT-CDO-ALLDAYEVENT:FALSE
SUMMARY:Scary Social Media & Monitoring Conversations Online
DESCRIPTION:Join our panelist in a frank discussion about Social Media.  Have you heard that some employers are demanding applicants to give their Facebook password before hiring?  Did you know some social media programs tell the world your location by your cell phone - and that you can turn it off?  The panelist are:\n\nTheo Holloway\, Key Biscayne Social Media\n\nPaola Padovan\, Ocean Club Realty\n\nMirta Pont\, Key Biscayne K-8 School\n\nThey will share their knowledge and answer questions from the audience.
X-ALT-DESC;FMTTYPE=text/html:Join our panelist in a frank discussion about Social Media.&nbsp\; Have you heard that some employers are demanding applicants to give their Facebook password before hiring?&nbsp\; Did you know some social media programs tell the world your location by your cell phone - and that you can turn it off?&nbsp\; The panelist are:<br />\nTheo Holloway\, Key Biscayne Social Media<br />\nPaola Padovan\, Ocean Club Realty<br />\nMirta Pont\, Key Biscayne K-8 School<br />\nThey will share their knowledge and answer questions from the audience.
LOCATION:Village Council Chambers 560 Crandon Blvd (enter on Village Green Way) Key Biscayne\, FL 33149
UID:e.330.3704
SEQUENCE:3
DTSTAMP:20260421T015516Z
URL:https://business.keybiscaynechamber.org/events/details/scary-social-media-monitoring-conversations-online-05-23-2012-3704
END:VEVENT

END:VCALENDAR
