BEGIN:VCALENDAR
VERSION:2.0
PRODID:-//ChamberMaster//Event Calendar 2.0//EN
METHOD:PUBLISH
X-PUBLISHED-TTL:P3D
REFRESH-INTERVAL:P3D
CALSCALE:GREGORIAN
BEGIN:VEVENT
DTSTART:20130824T230000Z
DTEND:20130825T023000Z
X-MICROSOFT-CDO-ALLDAYEVENT:FALSE
SUMMARY:Saturday Night Live Music at Boater's Grill
DESCRIPTION:Every Saturday is a celebration at Boater's Grill\n\n	\n\n	The great food\, the amazing view and now the music live\, loud and fun!
X-ALT-DESC;FMTTYPE=text/html:<div style="text-align: center">\n	<br />\n	<br />\n	<span style="font-size: 14px">Every <strong>Saturday</strong> is a celebration at <span style="color: #0000cd"><strong>Boater&#39\;s Grill</strong></span></span><br />\n	<br />\n	<span style="font-family: tahoma\; font-size: 18px">The great food\, the amazing view and now the music </span><cite style="font-family: tahoma\; font-size: 18px"><strong>live\, loud and fun!</strong></cite></div>\n<h3 style="text-align: center">\n	&nbsp\;</h3>\n
LOCATION:1200 Crandon Boulevard. Key Biscayne\, Fl 33149 Within Bill Baggs Cape Florida State Park.
UID:e.330.3967
SEQUENCE:3
DTSTAMP:20260420T014301Z
URL:https://business.keybiscaynechamber.org/events/details/saturday-night-live-music-at-boater-s-grill-08-24-2013-3967
END:VEVENT

END:VCALENDAR
