BEGIN:VCALENDAR
VERSION:2.0
PRODID:-//ChamberMaster//Event Calendar 2.0//EN
METHOD:PUBLISH
X-PUBLISHED-TTL:P3D
REFRESH-INTERVAL:P3D
CALSCALE:GREGORIAN
BEGIN:VEVENT
DTSTART:20111118T210000Z
DTEND:20111119T020000Z
X-MICROSOFT-CDO-ALLDAYEVENT:FALSE
SUMMARY:SANTAYANA JEWELER'S GIRLS' NIGHT OUT!
DESCRIPTION:AN EVENING OF FUN\, VIEWING OUR NEW DESIGNS AND UNIQUE PIECES JUST IN TIME FOR THE HOLIDAYS.  COME AND HAVE A GLASS OF WINE WITH YOUR NEIGHBORS AND FRIENDS IN A RELAXED AND FRIENDLY ATMOSPHERE. THE PROFESSIONAL STAFF AT SANTAYANA WILL BE THERE TO HELP YOU AND MEET YOUR REQUESTS.
X-ALT-DESC;FMTTYPE=text/html:<p>\n	AN EVENING OF FUN\, VIEWING OUR NEW DESIGNS AND UNIQUE PIECES JUST IN TIME FOR THE HOLIDAYS.&nbsp\; COME AND HAVE A GLASS OF WINE WITH YOUR NEIGHBORS AND FRIENDS IN A RELAXED AND FRIENDLY ATMOSPHERE. THE PROFESSIONAL STAFF AT SANTAYANA WILL BE THERE TO HELP YOU AND MEET YOUR REQUESTS.&nbsp\;</p>\n
LOCATION:SANTAYANA JEWELERS 640 CRANDON BLVD.\, KEY BISCAYNE FOR MORE INFORMATION CALL 305 361 2786
UID:e.330.3529
SEQUENCE:3
DTSTAMP:20260421T090834Z
URL:https://business.keybiscaynechamber.org/events/details/santayana-jeweler-s-girls-night-out-11-18-2011-3529
END:VEVENT

END:VCALENDAR
