BEGIN:VCALENDAR
VERSION:2.0
PRODID:-//ChamberMaster//Event Calendar 2.0//EN
METHOD:PUBLISH
X-PUBLISHED-TTL:P3D
REFRESH-INTERVAL:P3D
CALSCALE:GREGORIAN
BEGIN:VEVENT
DTSTART:20110203T000000Z
DTEND:20110203T020000Z
X-MICROSOFT-CDO-ALLDAYEVENT:FALSE
SUMMARY:Saint Agnes invites All to Consecrate our Community
DESCRIPTION:On Wednesday\, February 2nd 2011\, there will be a Religious Service presided by Agustin Rom n\, Bishop Emeritus of Miami and Rev. Jos  L. Hernando\, Pastor of St. Agnes Church\, to consecrate our community into the loving hands of God our Father.\n\n \n\nThe service will take place at St. Agnes Church at seven thirty in the evening. All families\, children\, members of all religious congregations\, institutions\, clubs\, and other community groups are welcome to attend this beautiful service.\n\n\n\nBy consecrating our lives to God our Father\, we establish an agreement that will result in our villages\, cities and countries\, finally attaining its profound desire for justice\, wellbeing\, and peace through Our Lord's love and protection.\n\n\n\nAll are welcome\, no matter what church you may attend.\n\n\n\n"YOU SHALL LOVE THE LORD YOUR GOD AND YOUR NEIGHBOR AS YOURSELF"\n\nLuke 10:27
X-ALT-DESC;FMTTYPE=text/html:<strong><span style="font-size: 16px\;">On Wednesday\, February 2<sup>nd</sup> 2011\, <span style="color: black\;">there will be a Religious Service presided by Agustin Rom&aacute\;n\, Bishop Emeritus of Miami and Rev.</span> <span style="color: black\;">Jos&eacute\; L. Hernando\, Pastor of St. Agnes Church\, to consecrate our community into the</span> <span style="color: black\;">loving hands of God our Father.</span></span></strong><br />\n&nbsp\;<br />\n<strong>The service will take place at St. Agnes Church at seven thirty in the evening. All families\, children\, members of all religious congregations\, institutions\, clubs\, and other community groups are welcome to attend this beautiful service.</strong><br />\n<br />\nBy consecrating our lives to God our Father\, we establish an agreement that will result in our villages\, cities and countries\, finally attaining its profound desire for justice\, wellbeing\, and peace through Our Lord&rsquo\;s love and protection.<br />\n<br />\nAll are welcome\, no matter what church you may attend.<br />\n<br />\n<em><span style="color: black\;">&ldquo\;YOU SHALL LOVE THE LORD YOUR GOD AND YOUR NEIGHBOR AS YOURSELF&rdquo\;</span></em><br />\n<span style="color: black\;">Luke 10:27</span>
LOCATION:Saint Agnes Catholic Church 100 Harbor Drive Key Biscayne\, Florida 33149
UID:e.330.3037
SEQUENCE:3
DTSTAMP:20260421T214015Z
URL:https://business.keybiscaynechamber.org/events/details/saint-agnes-invites-all-to-consecrate-our-community-02-02-2011-3037
END:VEVENT

END:VCALENDAR
