BEGIN:VCALENDAR
VERSION:2.0
PRODID:-//ChamberMaster//Event Calendar 2.0//EN
METHOD:PUBLISH
X-PUBLISHED-TTL:P3D
REFRESH-INTERVAL:P3D
CALSCALE:GREGORIAN
BEGIN:VEVENT
DTSTART:20120324T210000Z
DTEND:20120325T000000Z
X-MICROSOFT-CDO-ALLDAYEVENT:FALSE
SUMMARY:Rum & Wine Tasting @ Stefano's Wine & Liquor
DESCRIPTION:Saturday\,March 24th 2012\n\n\n\nCalifornia Boutique Wine Tasting:\n\n\n\nRobin K Pinot Noir\n\nC.S Cellars\, Napa Valley \n\n	Counterfeit\, Napa Valley\n\n\nRum Tasting:\n\n\n\nTen Cane Rum\, Trinidad & Tobago
X-ALT-DESC;FMTTYPE=text/html:<span style="font-size: 12px">Saturday\,March 24th 2012<br />\n<br />\nCalifornia Boutique Wine Tasting:<br />\n<br />\nRobin K Pinot Noir<br />\nC.S Cellars\, Napa Valley </span>\n<p>\n	<span style="font-size: 12px">Counterfeit\, Napa Valley</span></p>\n<br />\n<span style="font-size: 12px">Rum Tasting:<br />\n<br />\nTen Cane Rum\, Trinidad &amp\; Tobago</span><br />\n
LOCATION:Stefano's Wine & Liquor
UID:e.330.3660
SEQUENCE:3
DTSTAMP:20260421T032157Z
URL:https://business.keybiscaynechamber.org/events/details/rum-wine-tasting-stefano-s-wine-liquor-03-24-2012-3660
END:VEVENT

END:VCALENDAR
