BEGIN:VCALENDAR
VERSION:2.0
PRODID:-//ChamberMaster//Event Calendar 2.0//EN
METHOD:PUBLISH
X-PUBLISHED-TTL:P3D
REFRESH-INTERVAL:P3D
CALSCALE:GREGORIAN
BEGIN:VEVENT
DTSTART:20120218T220000Z
DTEND:20120219T010000Z
X-MICROSOFT-CDO-ALLDAYEVENT:FALSE
SUMMARY:Rum & Wine Tasting at Stefano's Wine & Liquor
DESCRIPTION:RUM TASTING.\n\n\n\nRON ATLANTICO FROM THE DOMINICAN REPUBLIC AGED FOR 23 YRS!\n\n\n\nPASO ROBLES TASTING... CALIFORNIA\n\n\n\nFOXGLOVE CABERNET SAVIGNON
X-ALT-DESC;FMTTYPE=text/html:<span style="color: #ff0000">RUM TASTING.</span><br />\n<br />\n<span style="color: #0000ff">RON ATLANTICO FROM THE DOMINICAN REPUBLIC AGED FOR 23 YRS!</span><br />\n<br />\n<span style="color: #ff0000">PASO ROBLES TASTING... CALIFORNIA</span><br />\n<br />\n<span style="color: #0000ff">FOXGLOVE CABERNET SAVIGNON </span>
LOCATION:Stefano's Wine & Liquor located ar the Galleria Mall
UID:e.330.3589
SEQUENCE:3
DTSTAMP:20260421T061301Z
URL:https://business.keybiscaynechamber.org/events/details/rum-wine-tasting-at-stefano-s-wine-liquor-02-18-2012-3589
END:VEVENT

END:VCALENDAR
