BEGIN:VCALENDAR
VERSION:2.0
PRODID:-//ChamberMaster//Event Calendar 2.0//EN
METHOD:PUBLISH
X-PUBLISHED-TTL:P3D
REFRESH-INTERVAL:P3D
CALSCALE:GREGORIAN
BEGIN:VEVENT
DTSTART:20120217T220000Z
DTEND:20120218T010000Z
X-MICROSOFT-CDO-ALLDAYEVENT:FALSE
SUMMARY:Rum & Wine Tasting at Stefano's Wine & Liquor
DESCRIPTION:RUM TASTING.\n\n	 \n\n	ZACAPPA RUM FROM GUATELMALA.  AGED FOR 25 YRS!\n\n	 \n\n	FRENCH WINE TASTING:\n\n	\n\n	ROSE WINE FROM PROVENCE.   " PERLE DE ROSE" COTES DE PROVENCE\n\n	\n\n	CALIFORNIA BLEND TASTING:\n\n	\n\n	HIGHFLYER RED WINE FROM NAPA VALLEY
X-ALT-DESC;FMTTYPE=text/html:<h3 style="color: red">\n	<span style="font-size: 14px"><span style="font-family: arial">RUM TASTING.</span></span><br />\n	&nbsp\;</h3>\n<p>\n	<span style="color: #0000ff">ZACAPPA RUM FROM GUATELMALA.&nbsp\; AGED FOR 25 YRS!</span><br />\n	&nbsp\;</p>\n<p>\n	<span style="color: #0000ff"><strong>FRENCH WINE TASTING:</strong><br />\n	<br />\n	ROSE WINE FROM PROVENCE.&nbsp\;&nbsp\; &quot\; PERLE DE ROSE&quot\; COTES DE PROVENCE<br />\n	<br />\n	<strong>CALIFORNIA BLEND TASTING:</strong><br />\n	<br />\n	HIGHFLYER RED WINE FROM NAPA VALLEY</span></p>\n
LOCATION:Stefano's Wine & Liquor at the Galleria Mall
UID:e.330.3588
SEQUENCE:3
DTSTAMP:20260421T043844Z
URL:https://business.keybiscaynechamber.org/events/details/rum-wine-tasting-at-stefano-s-wine-liquor-02-17-2012-3588
END:VEVENT

END:VCALENDAR
