BEGIN:VCALENDAR
VERSION:2.0
PRODID:-//ChamberMaster//Event Calendar 2.0//EN
METHOD:PUBLISH
X-PUBLISHED-TTL:P3D
REFRESH-INTERVAL:P3D
CALSCALE:GREGORIAN
BEGIN:VEVENT
DTSTART:20130403T220000Z
DTEND:20130403T230000Z
X-MICROSOFT-CDO-ALLDAYEVENT:FALSE
SUMMARY:RSMAS-Right Whales at the Brink of Extinction
DESCRIPTION:9th Annual Rosenstiel School Alumni Lecture\n\n	Charles "Stormy" Mayo\n\n	MS '68\, PhD "73\n\n	Director\, Right Whale Habitat Studies\n\n	Provincetown Center for Coastal Studies\n\n	Right whales of the North Atlantic Ocean are the rarest of the great whales\, clinging to existence on the very brink of extinction\, threatened by entanglement in fishing gear and the insidious effects of climate change.  Come hear Dr. Mayo speak about the whales' checkered history and his research to protect this important species.\n\n	\n\n	Lecture begins at 6 pm followed by h'oeuvres and wine reception
X-ALT-DESC;FMTTYPE=text/html:<p class="xmsonormal" style="text-align: center\; margin: 1em 0in">\n	<span style="color: #800080"><span style="font-size: 14pt"><font face="Times New Roman">9th Annual Rosenstiel School Alumni Lecture<br />\n	Charles &quot\;Stormy&quot\; Mayo<br />\n	MS &#39\;68\, PhD &quot\;73<br />\n	Director\, Right Whale Habitat Studies<br />\n	Provincetown Center for Coastal Studies</font></span></span></p>\n<p class="xmsonormal" style="text-align: justify\; margin: 1em 0in">\n	<span style="color: #800080"><span style="font-size: 14pt"><font face="Times New Roman">Right whales of the North Atlantic Ocean are the rarest of the great whales\, clinging to existence on the very brink of extinction\, threatened by entanglement in fishing gear and the insidious effects of climate change. &nbsp\;Come hear Dr. Mayo speak about the whales&#39\; checkered history and his research to protect this important species.<br />\n	<br />\n	Lecture begins at 6 pm followed by h&#39\;oeuvres and wine reception</font></span></span></p>\n
LOCATION:Rosenstiel School Auditorium 4600 Rickenbacker Causeway Virginia Key\, FL 33149
UID:e.330.3881
SEQUENCE:3
DTSTAMP:20260420T075914Z
URL:https://business.keybiscaynechamber.org/events/details/rsmas-right-whales-at-the-brink-of-extinction-04-03-2013-3881
END:VEVENT

END:VCALENDAR
