BEGIN:VCALENDAR
VERSION:2.0
PRODID:-//ChamberMaster//Event Calendar 2.0//EN
METHOD:PUBLISH
X-PUBLISHED-TTL:P3D
REFRESH-INTERVAL:P3D
CALSCALE:GREGORIAN
BEGIN:VEVENT
DTSTART:20121130T170000Z
DTEND:20121130T170000Z
X-MICROSOFT-CDO-ALLDAYEVENT:FALSE
SUMMARY:Rotary Club Wine Tasting 2012
DESCRIPTION:It is our pleasure to announce that the 8th Annual ROTARY KEY BISCAYNE WINE & FOOD FEST will be held on Friday\, November 30th 2012\, from 6:30 pm to 10:00 pm at the Links in Key Biscayne.  The evening's proceeds will benefit the Rotary Club of Key Biscayne Foundation (RCKBF) and its affiliated charities for adults and children.
X-ALT-DESC;FMTTYPE=text/html:<br />\n<span style="color:black\;"><span style="font-size:10.0pt\;">It is our pleasure to announce that the&nbsp\;<span style="font-family:arial\,sans-serif\;">8th Annual</span></span> <span style="font-family:arial\,sans-serif\;">ROTARY&nbsp\;KEY BISCAYNE WINE &amp\; FOOD FEST</span></span>&nbsp\;will be held on <span style="font-family:arial\,sans-serif\;">Friday\, November 30th 2012\,&nbsp\;from 6:30 pm to 10:00 pm at the Links in Key Biscayne.</span>&nbsp\; The evening&rsquo\;s proceeds will benefit the <span style="font-family:arial\,sans-serif\;">Rotary Club of Key Biscayne Foundation (RCKBF)</span> and its affiliated charities for adults and children.
LOCATION:The Links at Key Biscayne Club House 6700 Crandon Blvd\, Key Biscayne\, FL 33149 Complimentary Valet Parking
UID:e.330.3766
SEQUENCE:3
DTSTAMP:20260420T162008Z
URL:https://business.keybiscaynechamber.org/events/details/rotary-club-wine-tasting-2012-11-30-2012-3766
END:VEVENT

END:VCALENDAR
