BEGIN:VCALENDAR
VERSION:2.0
PRODID:-//ChamberMaster//Event Calendar 2.0//EN
METHOD:PUBLISH
X-PUBLISHED-TTL:P3D
REFRESH-INTERVAL:P3D
CALSCALE:GREGORIAN
BEGIN:VEVENT
DTSTART;VALUE=DATE:20111111
DTEND;VALUE=DATE:20111112
TRANSP:TRANSPARENT
X-MICROSOFT-CDO-ALLDAYEVENT:TRUE
SUMMARY:Rotary Club Wine Tasting
DESCRIPTION:HOLD THE DATE
X-ALT-DESC;FMTTYPE=text/html:HOLD THE DATE
LOCATION:
UID:e.330.3319
SEQUENCE:3
DTSTAMP:20260421T090258Z
URL:https://business.keybiscaynechamber.org/events/details/rotary-club-wine-tasting-11-11-2011-3319
END:VEVENT

END:VCALENDAR
