BEGIN:VCALENDAR
VERSION:2.0
PRODID:-//ChamberMaster//Event Calendar 2.0//EN
METHOD:PUBLISH
X-PUBLISHED-TTL:P3D
REFRESH-INTERVAL:P3D
CALSCALE:GREGORIAN
BEGIN:VEVENT
DTSTART;VALUE=DATE:20140304
DTEND;VALUE=DATE:20140305
TRANSP:TRANSPARENT
X-MICROSOFT-CDO-ALLDAYEVENT:TRUE
SUMMARY:Romantic French Tuesdays at Nothing but the Best Restaurant
DESCRIPTION:Starting this Tuesday 25th and every Tuesday at "Nothing but the Best" restaurant\, enjoy the experience of a French Dining with live Music by renowned singer Montserrat Franco and musicians. Show starts at 7:30 pm until 10 pm. "Romantic French Tuesdays" at "Nothing but the Best" Restaurant located just off the bridge of Key Biscayne at the charming neighborhood "The Roads" on 2525 SW 3rd. Ave (Coral Way) Miami\, FL 33129
X-ALT-DESC;FMTTYPE=text/html:Starting this Tuesday 25th and every Tuesday at &quot\;Nothing but the Best&quot\; restaurant\, enjoy the experience of a French Dining with live Music by renowned singer Montserrat Franco and musicians. Show starts at 7:30 pm until 10 pm. &quot\;Romantic French Tuesdays&quot\; at &quot\;Nothing but the Best&quot\; Restaurant located just off the bridge of Key Biscayne at the charming neighborhood &quot\;The Roads&quot\; on 2525 SW 3rd. Ave (Coral Way) Miami\, FL 33129
LOCATION:Nothing but the Best Contemporary French Cuisine 2525 SW 3rd Ave. Miami\, FL 33129
UID:e.330.4074
SEQUENCE:3
DTSTAMP:20260419T150715Z
URL:https://business.keybiscaynechamber.org/events/details/romantic-french-tuesdays-at-nothing-but-the-best-restaurant-03-04-2014-4074
END:VEVENT

END:VCALENDAR
