BEGIN:VCALENDAR
VERSION:2.0
PRODID:-//ChamberMaster//Event Calendar 2.0//EN
METHOD:PUBLISH
X-PUBLISHED-TTL:P3D
REFRESH-INTERVAL:P3D
CALSCALE:GREGORIAN
BEGIN:VEVENT
DTSTART:20130525T010000Z
DTEND:20130525T050000Z
X-MICROSOFT-CDO-ALLDAYEVENT:FALSE
SUMMARY:rock night with THE VIBES live at The Ibis Lounge
DESCRIPTION:
X-ALT-DESC;FMTTYPE=text/html:
LOCATION:The Ibis Lounge 200 Crandon Blvd Key Biscayne\, Fl 33149
UID:e.330.3916
SEQUENCE:3
DTSTAMP:20260420T062004Z
URL:https://business.keybiscaynechamber.org/events/details/rock-night-with-the-vibes-live-at-the-ibis-lounge-05-24-2013-3916
END:VEVENT

END:VCALENDAR
