BEGIN:VCALENDAR
VERSION:2.0
PRODID:-//ChamberMaster//Event Calendar 2.0//EN
METHOD:PUBLISH
X-PUBLISHED-TTL:P3D
REFRESH-INTERVAL:P3D
CALSCALE:GREGORIAN
BEGIN:VEVENT
DTSTART:20121122T010000Z
DTEND:20121122T045500Z
X-MICROSOFT-CDO-ALLDAYEVENT:FALSE
SUMMARY:rock night with The Vibe live
DESCRIPTION:live rock by The Vibe\n\n80s\, 90s and today cover band
X-ALT-DESC;FMTTYPE=text/html:live rock by The Vibe<br />\n80s\, 90s and today cover band
LOCATION:The Ibis Lounge 200 Crandon Blvd #101
UID:e.330.3803
SEQUENCE:3
DTSTAMP:20260420T145543Z
URL:https://business.keybiscaynechamber.org/events/details/rock-night-with-the-vibe-live-11-21-2012-3803
END:VEVENT

END:VCALENDAR
