BEGIN:VCALENDAR
VERSION:2.0
PRODID:-//ChamberMaster//Event Calendar 2.0//EN
METHOD:PUBLISH
X-PUBLISHED-TTL:P3D
REFRESH-INTERVAL:P3D
CALSCALE:GREGORIAN
BEGIN:VEVENT
DTSTART:20120707T020000Z
DTEND:20120707T060000Z
X-MICROSOFT-CDO-ALLDAYEVENT:FALSE
SUMMARY:rock night with Switch live
DESCRIPTION:
X-ALT-DESC;FMTTYPE=text/html:
LOCATION:The Ibis Lounge 200 Crandon Blvd
UID:e.330.3739
SEQUENCE:3
DTSTAMP:20260420T210706Z
URL:https://business.keybiscaynechamber.org/events/details/rock-night-with-switch-live-07-06-2012-3739
END:VEVENT

END:VCALENDAR
