BEGIN:VCALENDAR
VERSION:2.0
PRODID:-//ChamberMaster//Event Calendar 2.0//EN
METHOD:PUBLISH
X-PUBLISHED-TTL:P3D
REFRESH-INTERVAL:P3D
CALSCALE:GREGORIAN
BEGIN:VEVENT
DTSTART:20130810T010000Z
DTEND:20130810T060000Z
X-MICROSOFT-CDO-ALLDAYEVENT:FALSE
SUMMARY:rock night at The Ibis Lounge with TEA ON THE ROCK
DESCRIPTION:
X-ALT-DESC;FMTTYPE=text/html:
LOCATION:The Ibis Lounge 200 Crandon Blvd Key Biscayne\, Fl 33149
UID:e.330.3962
SEQUENCE:3
DTSTAMP:20260420T014232Z
URL:https://business.keybiscaynechamber.org/events/details/rock-night-at-the-ibis-lounge-with-tea-on-the-rock-08-09-2013-3962
END:VEVENT

END:VCALENDAR
