BEGIN:VCALENDAR
VERSION:2.0
PRODID:-//ChamberMaster//Event Calendar 2.0//EN
METHOD:PUBLISH
X-PUBLISHED-TTL:P3D
REFRESH-INTERVAL:P3D
CALSCALE:GREGORIAN
BEGIN:VEVENT
DTSTART:20111124T030000Z
DTEND:20111124T070000Z
X-MICROSOFT-CDO-ALLDAYEVENT:FALSE
SUMMARY:Rock Night at The Ibis Lounge with Switch
DESCRIPTION:
X-ALT-DESC;FMTTYPE=text/html:
LOCATION:The Ibis Lounge 200 Crandon Blvd #101 Key Biscayne\, Fl 33149
UID:e.330.3530
SEQUENCE:3
DTSTAMP:20260421T102637Z
URL:https://business.keybiscaynechamber.org/events/details/rock-night-at-the-ibis-lounge-with-switch-11-23-2011-3530
END:VEVENT

END:VCALENDAR
