BEGIN:VCALENDAR
VERSION:2.0
PRODID:-//ChamberMaster//Event Calendar 2.0//EN
METHOD:PUBLISH
X-PUBLISHED-TTL:P3D
REFRESH-INTERVAL:P3D
CALSCALE:GREGORIAN
BEGIN:VEVENT
DTSTART:20110813T000000Z
DTEND:20110813T033000Z
X-MICROSOFT-CDO-ALLDAYEVENT:FALSE
SUMMARY:Ritz-Carlton Wine Maker Dinner
DESCRIPTION:Sommelier Jorge Mendoza\, Chef de Cuisine Ezio Gamba and owner/winemaker Martin Foradori Hofstatter invite you to an intimate dinner experience with carefully selected wines from the Hofstatter winery. Located on the slopes of Alto-Adige in the northeast region of Italy\, the winery farms hectares of meticulously tended vineyards on clay and sandy soils making it the source of the finest Pinot Noir in the country. The evening begins with sips of Fruilian Prosecco Rose and gourmet bites at the restaurant's lavish bar\, followed by a four-course dinner.\n\n\n\nMenu created by Chef de Cuisine Ezio Gamba\n\n\n\nSeared Tuna and Burrata with Basil Air\n\nand Aqua di Pomodoro\n\n2009 Pinot Bianco\n\n\n\nCanederli\n\n2010 Pinot Grigio\n\n\n\nWild Boar Chop with Polenta\n\n2007 Pinot Nero\, "Barthenau St. Urbano"\n\n\n\nApple Studel\n\nMoscato d'Asti from Piedmont
X-ALT-DESC;FMTTYPE=text/html:Sommelier Jorge Mendoza\, Chef de Cuisine Ezio Gamba and owner/winemaker Martin Foradori Hofstatter invite you to an intimate dinner experience with carefully selected wines from the Hofstatter winery. Located on the slopes of Alto-Adige in the northeast region of Italy\, the winery farms hectares of meticulously tended vineyards on clay and sandy soils making it the source of the finest Pinot Noir in the country. The evening begins with sips of Fruilian Prosecco Rose and gourmet bites at the restaurant&#39\;s lavish bar\, followed by a four-course dinner.<br />\n<br />\nMenu created by Chef de Cuisine Ezio Gamba<br />\n<br />\nSeared Tuna and Burrata with Basil Air<br />\nand Aqua di Pomodoro<br />\n2009 Pinot Bianco<br />\n<br />\nCanederli<br />\n2010 Pinot Grigio<br />\n<br />\nWild Boar Chop with Polenta<br />\n2007 Pinot Nero\, &quot\;Barthenau St. Urbano&quot\;<br />\n<br />\nApple Studel<br />\nMoscato d&#39\;Asti from Piedmont
LOCATION:Cioppino at The Ritz-Carlton Key Biscayne 455 Grand Bay Drive key Biscayne\, FL 33149
UID:e.330.3464
SEQUENCE:3
DTSTAMP:20260421T131935Z
URL:https://business.keybiscaynechamber.org/events/details/ritz-carlton-wine-maker-dinner-08-12-2011-3464
END:VEVENT

END:VCALENDAR
