BEGIN:VCALENDAR
VERSION:2.0
PRODID:-//ChamberMaster//Event Calendar 2.0//EN
METHOD:PUBLISH
X-PUBLISHED-TTL:P3D
REFRESH-INTERVAL:P3D
CALSCALE:GREGORIAN
BEGIN:VEVENT
DTSTART:20250617T223000Z
DTEND:20250618T003000Z
X-MICROSOFT-CDO-ALLDAYEVENT:FALSE
SUMMARY:Rickenbacker Causeway Shoreline Workshop
DESCRIPTION:Mayor Joe Rasco has called for a Rickenbacker Causeway Shoreline Workshop.\n\n\n\nWorkshop Agenda\n\n\n\nViewing Instructions
X-ALT-DESC;FMTTYPE=text/html:<br />\n<br />\n<span style="font-size:20px\;">Mayor Joe Rasco has called for a Rickenbacker Causeway Shoreline Workshop.</span><br />\n<br />\n<span style="font-size:20px\;"><a href="https://d3n9y02raazwpg.cloudfront.net/keybiscayne/b0f899d7-46f2-11f0-b7f5-005056a89546-4206a9c6-5dc6-45bb-9df3-1259d90bcd76-1750083699.pdf" style="font-family: &quot\;times new roman&quot\;\, serif\; color: rgb(70\, 120\, 134)\;"><span style="color:#0000FF\;">Workshop Agenda</span></a></span><br />\n<br />\n<span style="font-family:arial\;"><span style="font-size:18px\;"><a href="https://keybiscayne.fl.gov/your_government/meeting_instructions.php" style="color: rgb(70\, 120\, 134)\;"><span style="color:#0000FF\;">Viewing Instructions</span></a></span></span><br />\n<br />\n<br />\n&nbsp\;
LOCATION:Village Council Chamber (behind the Fire Station)
UID:e.330.23099
SEQUENCE:3
DTSTAMP:20260425T031441Z
URL:https://business.keybiscaynechamber.org/events/details/rickenbacker-causeway-shoreline-workshop-23099
END:VEVENT

END:VCALENDAR
