BEGIN:VCALENDAR
VERSION:2.0
PRODID:-//ChamberMaster//Event Calendar 2.0//EN
METHOD:PUBLISH
X-PUBLISHED-TTL:P3D
REFRESH-INTERVAL:P3D
CALSCALE:GREGORIAN
BEGIN:VEVENT
DTSTART:20110812T010000Z
DTEND:20110812T035500Z
X-MICROSOFT-CDO-ALLDAYEVENT:FALSE
SUMMARY:Richie in Burn Notice at The Ibis Lounge
DESCRIPTION:Come watch Key Biscayner and Ibis Lounge regular Richard "Richie" Haylor as Commander Jackson in Burn Notice\n\n\n\n50% off Guiness bottles
X-ALT-DESC;FMTTYPE=text/html:Come watch Key Biscayner and Ibis Lounge regular Richard &quot\;Richie&quot\; Haylor as Commander Jackson in Burn Notice<br />\n<br />\n50% off Guiness bottles
LOCATION:The Ibis Lounge 200 Crandon Blvd #101 Key Biscayne\, Fl 33149
UID:e.330.3465
SEQUENCE:3
DTSTAMP:20260421T132251Z
URL:https://business.keybiscaynechamber.org/events/details/richie-in-burn-notice-at-the-ibis-lounge-08-11-2011-3465
END:VEVENT

END:VCALENDAR
