BEGIN:VCALENDAR
VERSION:2.0
PRODID:-//ChamberMaster//Event Calendar 2.0//EN
METHOD:PUBLISH
X-PUBLISHED-TTL:P3D
REFRESH-INTERVAL:P3D
CALSCALE:GREGORIAN
BEGIN:VEVENT
DTSTART:20110624T220000Z
DTEND:20110625T000000Z
X-MICROSOFT-CDO-ALLDAYEVENT:FALSE
SUMMARY:Reverend Bud Schroeder's Retirement Party
DESCRIPTION:It takes a Village.......\n\n	\n\n	...to Say Goodbye to Rev Bud.\n\n	\n\n	Your might know Rev Bud:\n\n	\n\n	* from the Key Biscayne Community Church & School\n\n	* as "Mr Bones" who invited the Village to his home in Halloween\n\n	* as the Chaplain of the Key Biscayne Police\n\n	* as the former Vice Chair of the Key Biscayne Chamber of Commerce\n\n	* a volunteer on the Village's Landscape Committee\n\n	* the gardener who planted a butterfly corridor\n\n	* someone you've met during the decade he served our Village\n\n	\n\n	Refreshments and Light Food\n\n	\n\n	please come and wish him farewell!
X-ALT-DESC;FMTTYPE=text/html:<p>\n	<span style="font-size: 14px"><span><strong><span style="font-family: arial">It&nbsp\;takes a Village.......<br />\n	<br />\n	...to Say Goodbye to Rev Bud.<br />\n	<br />\n	Your might know Rev Bud:</span></strong></span><br />\n	<br />\n	<font face="Arial">* from the Key Biscayne Community Church &amp\; School<br />\n	* as &quot\;Mr Bones&quot\; who invited the Village to his home in Halloween<br />\n	* as the Chaplain of the Key Biscayne Police<br />\n	* as the former Vice Chair of the Key Biscayne Chamber of Commerce<br />\n	* a volunteer&nbsp\;on the Village&#39\;s Landscape Committee<br />\n	* the&nbsp\;gardener who planted a butterfly corridor<br />\n	* someone you&#39\;ve met during the decade he served our Village<br />\n	<br />\n	<strong>Refreshments and Light Food</strong><br />\n	<br />\n	<em><strong>please come and wish him farewell!</strong></em></font></span><br />\n	<br />\n	<strong>&nbsp\;</strong></p>\n
LOCATION:The Island Room\, Key Biscayne Community Center\, 10 Village Green Way\, Key Biscayne\, FL 33149
UID:e.330.3385
SEQUENCE:3
DTSTAMP:20260421T160809Z
URL:https://business.keybiscaynechamber.org/events/details/reverend-bud-schroeder-s-retirement-party-06-24-2011-3385
END:VEVENT

END:VCALENDAR
