BEGIN:VCALENDAR
VERSION:2.0
PRODID:-//ChamberMaster//Event Calendar 2.0//EN
METHOD:PUBLISH
X-PUBLISHED-TTL:P3D
REFRESH-INTERVAL:P3D
CALSCALE:GREGORIAN
BEGIN:VEVENT
DTSTART:20140420T140000Z
DTEND:20140420T151500Z
X-MICROSOFT-CDO-ALLDAYEVENT:FALSE
SUMMARY:Resurrection Celebration at Key Biscayne Presbyterian Church
DESCRIPTION:A joyful celebration of the resurrection of Jesus Christ that includes the participation of guest brass musicians.\n\nCoffee and light refreshments immediately following the service.
X-ALT-DESC;FMTTYPE=text/html:<style type="text/css"><!--\n /* Font Definitions */\n@font-face\n	{font-family:Arial\;\n	panose-1:2 11 6 4 2 2 2 2 2 4\;\n	mso-font-charset:0\;\n	mso-generic-font-family:auto\;\n	mso-font-pitch:variable\;\n	mso-font-signature:-536859905 -1073711037 9 0 511 0\;}\n@font-face\n	{font-family:"MS ??"\;\n	mso-font-charset:78\;\n	mso-generic-font-family:auto\;\n	mso-font-pitch:variable\;\n	mso-font-signature:-536870145 1791491579 18 0 131231 0\;}\n@font-face\n	{font-family:"Cambria Math"\;\n	panose-1:2 4 5 3 5 4 6 3 2 4\;\n	mso-font-charset:0\;\n	mso-generic-font-family:auto\;\n	mso-font-pitch:variable\;\n	mso-font-signature:-536870145 1107305727 0 0 415 0\;}\n@font-face\n	{font-family:Calibri\;\n	panose-1:2 15 5 2 2 2 4 3 2 4\;\n	mso-font-charset:0\;\n	mso-generic-font-family:auto\;\n	mso-font-pitch:variable\;\n	mso-font-signature:-520092929 1073786111 9 0 415 0\;}\n@font-face\n	{font-family:Cambria\;\n	panose-1:2 4 5 3 5 4 6 3 2 4\;\n	mso-font-charset:0\;\n	mso-generic-font-family:auto\;\n	mso-font-pitch:variable\;\n	mso-font-signature:-536870145 1073743103 0 0 415 0\;}\n /* Style Definitions */\np.MsoNormal\, li.MsoNormal\, div.MsoNormal\n	{mso-style-unhide:no\;\n	mso-style-qformat:yes\;\n	mso-style-parent:""\;\n	margin:0in\;\n	margin-bottom:.0001pt\;\n	mso-pagination:widow-orphan\;\n	font-size:12.0pt\;\n	font-family:Cambria\;\n	mso-ascii-font-family:Cambria\;\n	mso-ascii-theme-font:minor-latin\;\n	mso-fareast-font-family:"MS ??"\;\n	mso-fareast-theme-font:minor-fareast\;\n	mso-hansi-font-family:Cambria\;\n	mso-hansi-theme-font:minor-latin\;\n	mso-bidi-font-family:"Times New Roman"\;\n	mso-bidi-theme-font:minor-bidi\;}\n.MsoChpDefault\n	{mso-style-type:export-only\;\n	mso-default-props:yes\;\n	font-family:Cambria\;\n	mso-ascii-font-family:Cambria\;\n	mso-ascii-theme-font:minor-latin\;\n	mso-fareast-font-family:"MS ??"\;\n	mso-fareast-theme-font:minor-fareast\;\n	mso-hansi-font-family:Cambria\;\n	mso-hansi-theme-font:minor-latin\;\n	mso-bidi-font-family:"Times New Roman"\;\n	mso-bidi-theme-font:minor-bidi\;}\n@page WordSection1\n	{size:8.5in 11.0in\;\n	margin:1.0in 1.25in 1.0in 1.25in\;\n	mso-header-margin:.5in\;\n	mso-footer-margin:.5in\;\n	mso-paper-source:0\;}\ndiv.WordSection1\n	{page:WordSection1\;}\n-->\n</style>\n<span style="font-family: Calibri\; font-size: 12pt\; mso-fareast-language: EN-US\; mso-fareast-font-family: &quot\;MS ??&quot\;\; mso-ansi-language: EN-US\; mso-bidi-language: AR-SA\; mso-fareast-theme-font: minor-fareast\; mso-ascii-theme-font: major-latin\; mso-hansi-theme-font: major-latin\; mso-bidi-font-family: Arial\;">A joyful celebration of the resurrection of Jesus Christ that includes the participation of guest brass musicians.<br />\nCoffee and light refreshments immediately following the service</span>.
LOCATION:Key Biscayne Presbyterian Church 160 Harbor Drive Key Biscayne\, FL 33149
UID:e.330.4085
SEQUENCE:3
DTSTAMP:20260419T150549Z
URL:https://business.keybiscaynechamber.org/events/details/resurrection-celebration-at-key-biscayne-presbyterian-church-04-20-2014-4085
END:VEVENT

END:VCALENDAR
