BEGIN:VCALENDAR
VERSION:2.0
PRODID:-//ChamberMaster//Event Calendar 2.0//EN
METHOD:PUBLISH
X-PUBLISHED-TTL:P3D
REFRESH-INTERVAL:P3D
CALSCALE:GREGORIAN
BEGIN:VEVENT
DTSTART:20120229T230000Z
DTEND:20120301T000000Z
X-MICROSOFT-CDO-ALLDAYEVENT:FALSE
SUMMARY:Reputation Management
DESCRIPTION:Whether you know it or not\, your business does have a world-wide reputation. Learn how you can manage your reputation from knowledgeable Chamber members who currently do so. The event is one hour long\, from 6:00 p.m. to 7:00 p.m. on February 29th in the Village Council Chambers.\n\n\n\nThe panelists are: Theodore Holloway\, Key Biscayne Social Media\; Tatiana Lora\, The Ritz-Carlton Key Biscayne\; Paola Padovan\, Ocean Club Realty\; and Aubrey Swanson\, Kaufman Rossin & Company. Please call 305.361.5207 or email kathye@keybiscaynechamber.org to reserve your space now.
X-ALT-DESC;FMTTYPE=text/html:<span style="font-family: arial\, sans-serif"><span style="font-size: 10pt">Whether you know it or not\, your business does have a world-wide reputation. Learn how you can manage your reputation from knowledgeable Chamber members who currently do so. The event is one hour long\, from 6:00 p.m. to&nbsp\;7:00 p.m. on February 29<sup>th</sup> in the Village Council Chambers.</span></span><br />\n<br />\n<span style="font-family: arial\, sans-serif"><span style="font-size: 10pt">The panelists are: Theodore Holloway\, Key Biscayne Social Media\; Tatiana Lora\, The Ritz-Carlton Key Biscayne\; Paola Padovan\, Ocean Club Realty\; and Aubrey Swanson\, Kaufman Rossin &amp\; Company. Please call 305.361.5207 or email <a href="mailto:kathye@keybiscaynechamber.org">kathye@keybiscaynechamber.org</a> to reserve your space now.</span></span>
LOCATION:The Village Council Chambers 560 Crandon Blvd - Enter from Village Green Way Key Biscayne\, FL 33149
UID:e.330.3590
SEQUENCE:3
DTSTAMP:20260421T043511Z
URL:https://business.keybiscaynechamber.org/events/details/reputation-management-02-29-2012-3590
END:VEVENT

END:VCALENDAR
