BEGIN:VCALENDAR
VERSION:2.0
PRODID:-//ChamberMaster//Event Calendar 2.0//EN
METHOD:PUBLISH
X-PUBLISHED-TTL:P3D
REFRESH-INTERVAL:P3D
CALSCALE:GREGORIAN
BEGIN:VEVENT
DTSTART:20140425T180000Z
DTEND:20140426T150000Z
X-MICROSOFT-CDO-ALLDAYEVENT:FALSE
SUMMARY:Relay for Life of Key Biscayne 2014
DESCRIPTION:Join a team and help raise money for the American Cancer Society or come out on Friday and Saturday to support the teams in their fundraising efforts.  A fun time for all.
X-ALT-DESC;FMTTYPE=text/html:<span style="color: rgb(128\, 0\, 128)\;">Join a team and help raise money for the American Cancer Society or come out on Friday and Saturday to support the teams in their fundraising efforts.&nbsp\; A fun time for all.</span>
LOCATION:The Village Green Key Biscayne\, FL
UID:e.330.4096
SEQUENCE:3
DTSTAMP:20260419T133838Z
URL:https://business.keybiscaynechamber.org/events/details/relay-for-life-of-key-biscayne-2014-04-25-2014-4096
END:VEVENT

END:VCALENDAR
