BEGIN:VCALENDAR
VERSION:2.0
PRODID:-//ChamberMaster//Event Calendar 2.0//EN
METHOD:PUBLISH
X-PUBLISHED-TTL:P3D
REFRESH-INTERVAL:P3D
CALSCALE:GREGORIAN
BEGIN:VEVENT
DTSTART:20110415T220000Z
DTEND:20110416T160000Z
X-MICROSOFT-CDO-ALLDAYEVENT:FALSE
SUMMARY:Relay For Life of Key Biscayne 2011
DESCRIPTION:Relay For Life is an amazing fundraiser that allows the community to come together for one special cause - to FIGHT BACK against cancer throught the American Cancer Society's mission. It's a wonderful time to honor the Survivors of Key Biscayne and remember those who have lost their battle...all while working together as a community to raise funds for a world with more birthdays!
X-ALT-DESC;FMTTYPE=text/html:Relay For Life is an amazing fundraiser that allows the community to&nbsp\;come together for one special cause - to FIGHT BACK against cancer throught the American Cancer Society&#39\;s mission. It&#39\;s a wonderful time to honor the Survivors of Key Biscayne and remember those who have lost their battle...all while working together as a community to raise funds for a world with more birthdays! 
LOCATION:The Village Green
UID:e.330.2236
SEQUENCE:3
DTSTAMP:20260421T185702Z
URL:https://business.keybiscaynechamber.org/events/details/relay-for-life-of-key-biscayne-2011-04-15-2011-2236
END:VEVENT

END:VCALENDAR
