BEGIN:VCALENDAR
VERSION:2.0
PRODID:-//ChamberMaster//Event Calendar 2.0//EN
METHOD:PUBLISH
X-PUBLISHED-TTL:P3D
REFRESH-INTERVAL:P3D
CALSCALE:GREGORIAN
BEGIN:VEVENT
DTSTART:20130925T213000Z
DTEND:20130925T233000Z
X-MICROSOFT-CDO-ALLDAYEVENT:FALSE
SUMMARY:Relay for Life "Kick Off Party"
DESCRIPTION:Relay for Life Key Biscayne begins it 14th year on the Key.  Join us for the Kick Off Party and help make this a successful year.
X-ALT-DESC;FMTTYPE=text/html:Relay for Life Key Biscayne begins it 14th year on the Key.&nbsp\; Join us for the Kick Off Party and help make this a successful year.
LOCATION:U S Century Bank 260 Crandon Blvd. Key Biscayne\, FL 33149
UID:e.330.3970
SEQUENCE:3
DTSTAMP:20260419T235922Z
URL:https://business.keybiscaynechamber.org/events/details/relay-for-life-kick-off-party-09-25-2013-3970
END:VEVENT

END:VCALENDAR
