BEGIN:VCALENDAR
VERSION:2.0
PRODID:-//ChamberMaster//Event Calendar 2.0//EN
METHOD:PUBLISH
X-PUBLISHED-TTL:P3D
REFRESH-INTERVAL:P3D
CALSCALE:GREGORIAN
BEGIN:VEVENT
DTSTART:20120320T220000Z
DTEND:20120320T233000Z
X-MICROSOFT-CDO-ALLDAYEVENT:FALSE
SUMMARY:Relay for Life Kick Off Party
DESCRIPTION:Relay for Life Kick Off Party\n\nJoin us a we gear up for another successful year.
X-ALT-DESC;FMTTYPE=text/html:Relay for Life Kick Off Party<br />\nJoin us a we gear up for another successful year.
LOCATION:U S Century Bank 260 Crandon Blvd #51 Key Biscayne\, FL 33149
UID:e.330.3618
SEQUENCE:3
DTSTAMP:20260421T043710Z
URL:https://business.keybiscaynechamber.org/events/details/relay-for-life-kick-off-party-03-20-2012-3618
END:VEVENT

END:VCALENDAR
